{"text_format":"3","workbook":"xlsx","n_sheets":1,"sheets":["Sheet1"],"not_rendered":{"external_links":1},"read":"whole","date_system":"1900"}

{"sheet":"Sheet1","index":0,"n_rows":178,"n_cols":7,"rows_kept":178,"merged":[[4,0,5,0],[4,1,5,1],[4,3,5,3],[4,5,5,5],[4,6,5,6]]}
["MFN and preferential trade shares by regions and economies, 2022"]
["Total imports in USD million and shares by duty category in per cent"]
["Based on ERSD-2025-02 working paper \"Significance of MFN terms in Global Trade:  A comprehensive analysis\""]
[]
["Region/Economy","Income groupa","Total imports","MFN import share","MFN","MFN dutiable share","Preferential share"]
[null,null,"(USD million)",null,"duty-free share"]
["Africa",null,{"v":694031,"d":"694,031"},{"v":0.89,"d":"89%"},{"v":0.18,"d":"18%"},{"v":0.71,"d":"71%"},{"v":0.11,"d":"11%"}]
["Algeria*","LM",{"$f":"VLOOKUP(A8,[1]all_after!$A:$G,7,FALSE)","v":{"v":46052.6614447379,"d":"46,053"}},{"$f":"SUM(E8:F8)","v":{"v":0.9999999686285688,"d":"100%"}},{"$f":"VLOOKUP(A8,[1]percentages_after!$A:$C,3,FALSE)","v":{"v":0.020635940903011338,"d":"2%"}},{"$f":"VLOOKUP(A8,[1]percentages_after!$A:$D,4,FALSE)+VLOOKUP(A8,[1]percentages_after!$A:$E,5,FALSE)","v":{"v":0.9793640277255574,"d":"98%"}},{"$f":"1-D8","v":{"v":3.1371431230553526E-8,"d":"0%"}}]
["Angola*","LM",{"$f":"VLOOKUP(A9,[1]all_after!$A:$G,7,FALSE)","v":{"v":17843.094918892,"d":"17,843"}},{"$f":"SUM(E9:F9)","v":{"v":0.9870882870970961,"d":"99%"}},{"$f":"VLOOKUP(A9,[1]percentages_after!$A:$C,3,FALSE)","v":{"v":0.4152984688858087,"d":"42%"}},{"$f":"VLOOKUP(A9,[1]percentages_after!$A:$D,4,FALSE)+VLOOKUP(A9,[1]percentages_after!$A:$E,5,FALSE)","v":{"v":0.5717898182112874,"d":"57%"}},{"v":0.012911712902903938,"d":"1%"}]
["Benin*","LM",{"$f":"VLOOKUP(A10,[1]all_after!$A:$G,7,FALSE)","v":{"v":3846.60608607772,"d":"3,847"}},{"v":0.9262996834784313,"d":"93%"},{"$f":"VLOOKUP(A10,[1]percentages_after!$A:$C,3,FALSE)","v":{"v":0.05922623603819591,"d":"6%"}},{"$f":"VLOOKUP(A10,[1]percentages_after!$A:$D,4,FALSE)+VLOOKUP(A10,[1]percentages_after!$A:$E,5,FALSE)","v":{"v":0.8670734474402354,"d":"87%"}},{"v":0.07370031652156872,"d":"7%"}]
["Botswana*","UM",{"$f":"VLOOKUP(A11,[1]all_after!$A:$G,7,FALSE)","v":{"v":8114.911513084,"d":"8,115"}},{"v":0.6938103996478809,"d":"69%"},{"$f":"VLOOKUP(A11,[1]percentages_after!$A:$C,3,FALSE)","v":{"v":0.4844353501158513,"d":"48%"}},{"$f":"VLOOKUP(A11,[1]percentages_after!$A:$D,4,FALSE)+VLOOKUP(A11,[1]percentages_after!$A:$E,5,FALSE)","v":{"v":0.20937504953202962,"d":"21%"}},{"v":0.30618960035211906,"d":"31%"}]
["Burkina Faso*","L",{"$f":"VLOOKUP(A12,[1]all_after!$A:$G,7,FALSE)","v":{"v":5647.10934114622,"d":"5,647"}},{"v":0.8747112374837405,"d":"87%"},{"$f":"VLOOKUP(A12,[1]percentages_after!$A:$C,3,FALSE)","v":{"v":0.10224168953010011,"d":"10%"}},{"$f":"VLOOKUP(A12,[1]percentages_after!$A:$D,4,FALSE)+VLOOKUP(A12,[1]percentages_after!$A:$E,5,FALSE)","v":{"v":0.7724695479536403,"d":"77%"}},{"v":0.12528876251625953,"d":"13%"}]
["Burundi*","L",{"$f":"VLOOKUP(A13,[1]all_after!$A:$G,7,FALSE)","v":{"v":1260.470568428,"d":"1,260"}},{"v":0.7346066010528128,"d":"73%"},{"$f":"VLOOKUP(A13,[1]percentages_after!$A:$C,3,FALSE)","v":{"v":0.3549547377040218,"d":"35%"}},{"$f":"VLOOKUP(A13,[1]percentages_after!$A:$D,4,FALSE)+VLOOKUP(A13,[1]percentages_after!$A:$E,5,FALSE)","v":{"v":0.37965186334879103,"d":"38%"}},{"v":0.26539339894718716,"d":"27%"}]
["Cabo Verde*","LM",{"$f":"VLOOKUP(A14,[1]all_after!$A:$G,7,FALSE)","v":{"v":1772.36900038999,"d":"1,772"}},{"v":1.0000005639965548,"d":"100%"},{"$f":"VLOOKUP(A14,[1]percentages_after!$A:$C,3,FALSE)","v":{"v":0.048928862996880575,"d":"5%"}},{"$f":"VLOOKUP(A14,[1]percentages_after!$A:$D,4,FALSE)+VLOOKUP(A14,[1]percentages_after!$A:$E,5,FALSE)","v":{"v":0.9510717009996742,"d":"95%"}},{"v":-5.6399655479211219E-7,"d":"-0%"}]
["Cameroon*","LM",{"$f":"VLOOKUP(A15,[1]all_after!$A:$G,7,FALSE)","v":{"v":6969.16283069089,"d":"6,969"}},{"v":0.842487131186449,"d":"84%"},{"$f":"VLOOKUP(A15,[1]percentages_after!$A:$C,3,FALSE)","v":{"v":3.3949558325435856E-3,"d":"0%"}},{"$f":"VLOOKUP(A15,[1]percentages_after!$A:$D,4,FALSE)+VLOOKUP(A15,[1]percentages_after!$A:$E,5,FALSE)","v":{"v":0.8390921753539055,"d":"84%"}},{"v":0.15751286881355098,"d":"16%"}]
["Central African Republic*","L",{"$f":"VLOOKUP(A16,[1]all_after!$A:$G,7,FALSE)","v":{"v":623.380390021,"d":"623"}},{"v":0.9135673965952235,"d":"91%"},{"$f":"VLOOKUP(A16,[1]percentages_after!$A:$C,3,FALSE)","v":{"v":0.07327789056447728,"d":"7%"}},{"$f":"VLOOKUP(A16,[1]percentages_after!$A:$D,4,FALSE)+VLOOKUP(A16,[1]percentages_after!$A:$E,5,FALSE)","v":{"v":0.8402895060307461,"d":"84%"}},{"v":0.08643260340477654,"d":"9%"}]
["Comoros*","LM",{"$f":"VLOOKUP(A17,[1]all_after!$A:$G,7,FALSE)","v":{"v":326.486668115,"d":"326"}},{"v":0.9962428232611082,"d":"100%"},{"$f":"VLOOKUP(A17,[1]percentages_after!$A:$C,3,FALSE)","v":{"v":0.35833009866973203,"d":"36%"}},{"$f":"VLOOKUP(A17,[1]percentages_after!$A:$D,4,FALSE)+VLOOKUP(A17,[1]percentages_after!$A:$E,5,FALSE)","v":{"v":0.6379127245913762,"d":"64%"}},{"v":3.7571767388917543E-3,"d":"0%"}]
["Congo*","LM",{"$f":"VLOOKUP(A18,[1]all_after!$A:$G,7,FALSE)","v":{"v":2351.50311533599,"d":"2,352"}},{"v":0.9999986751725014,"d":"100%"},{"$f":"VLOOKUP(A18,[1]percentages_after!$A:$C,3,FALSE)","v":{"v":0.006744622151067775,"d":"1%"}},{"$f":"VLOOKUP(A18,[1]percentages_after!$A:$D,4,FALSE)+VLOOKUP(A18,[1]percentages_after!$A:$E,5,FALSE)","v":{"v":0.9932540530214337,"d":"99%"}},{"v":1.3248274985944164E-6,"d":"0%"}]
["Côte d'Ivoire*","LM",{"$f":"VLOOKUP(A19,[1]all_after!$A:$G,7,FALSE)","v":{"v":8575.78607172617,"d":"8,576"}},{"v":0.7907869836397361,"d":"79%"},{"$f":"VLOOKUP(A19,[1]percentages_after!$A:$C,3,FALSE)","v":{"v":0.09547229760072579,"d":"10%"}},{"$f":"VLOOKUP(A19,[1]percentages_after!$A:$D,4,FALSE)+VLOOKUP(A19,[1]percentages_after!$A:$E,5,FALSE)","v":{"v":0.6953146860390104,"d":"70%"}},{"v":0.2092130163602639,"d":"21%"}]
["Democratic Republic of the Congo*","L",{"$f":"VLOOKUP(A20,[1]all_after!$A:$G,7,FALSE)","v":{"v":11406.533703287,"d":"11,407"}},{"v":1.0000005520268613,"d":"100%"},{"$f":"VLOOKUP(A20,[1]percentages_after!$A:$C,3,FALSE)","v":{"v":3.6294987659633913E-4,"d":"0%"}},{"$f":"VLOOKUP(A20,[1]percentages_after!$A:$D,4,FALSE)+VLOOKUP(A20,[1]percentages_after!$A:$E,5,FALSE)","v":{"v":0.9996376021502651,"d":"100%"}},{"v":-5.5202686133348777E-7,"d":"-0%"}]
["Egypt*","LM",{"$f":"VLOOKUP(A21,[1]all_after!$A:$G,7,FALSE)","v":{"v":96188.0427113479,"d":"96,188"}},{"v":0.9999999718120067,"d":"100%"},{"$f":"VLOOKUP(A21,[1]percentages_after!$A:$C,3,FALSE)","v":{"v":0,"d":"0%"}},{"$f":"VLOOKUP(A21,[1]percentages_after!$A:$D,4,FALSE)+VLOOKUP(A21,[1]percentages_after!$A:$E,5,FALSE)","v":{"v":0.9999999718120067,"d":"100%"}},{"v":2.8187993272865697E-8,"d":"0%"}]
["Eswatini*","LM",{"$f":"VLOOKUP(A22,[1]all_after!$A:$G,7,FALSE)","v":{"v":2116.46020141,"d":"2,116"}},{"v":0.6343658147247674,"d":"63%"},{"$f":"VLOOKUP(A22,[1]percentages_after!$A:$C,3,FALSE)","v":{"v":0.4097880033001324,"d":"41%"}},{"$f":"VLOOKUP(A22,[1]percentages_after!$A:$D,4,FALSE)+VLOOKUP(A22,[1]percentages_after!$A:$E,5,FALSE)","v":{"v":0.224577811424635,"d":"22%"}},{"v":0.3656341852752326,"d":"37%"}]
["Ethiopia*","L",{"$f":"VLOOKUP(A23,[1]all_after!$A:$G,7,FALSE)","v":{"v":16537.801018888,"d":"16,538"}},{"v":0.9936109390379457,"d":"99%"},{"$f":"VLOOKUP(A23,[1]percentages_after!$A:$C,3,FALSE)","v":{"v":0.15399628989920233,"d":"15%"}},{"$f":"VLOOKUP(A23,[1]percentages_after!$A:$D,4,FALSE)+VLOOKUP(A23,[1]percentages_after!$A:$E,5,FALSE)","v":{"v":0.8396146491387434,"d":"84%"}},{"v":6.3890609620542715E-3,"d":"1%"}]
["Gabon*","UM",{"$f":"VLOOKUP(A24,[1]all_after!$A:$G,7,FALSE)","v":{"v":3646.110947381,"d":"3,646"}},{"v":0.9999997401667108,"d":"100%"},{"$f":"VLOOKUP(A24,[1]percentages_after!$A:$C,3,FALSE)","v":{"v":0.008455584716133,"d":"1%"}},{"$f":"VLOOKUP(A24,[1]percentages_after!$A:$D,4,FALSE)+VLOOKUP(A24,[1]percentages_after!$A:$E,5,FALSE)","v":{"v":0.9915441554505778,"d":"99%"}},{"v":2.59833289217859e-07,"d":"0%"}]
["Ghana*","LM",{"$f":"VLOOKUP(A25,[1]all_after!$A:$G,7,FALSE)","v":{"v":17962.659788511,"d":"17,963"}},{"v":0.8408899449101065,"d":"84%"},{"$f":"VLOOKUP(A25,[1]percentages_after!$A:$C,3,FALSE)","v":{"v":0.05077421777944851,"d":"5%"}},{"$f":"VLOOKUP(A25,[1]percentages_after!$A:$D,4,FALSE)+VLOOKUP(A25,[1]percentages_after!$A:$E,5,FALSE)","v":{"v":0.790115727130658,"d":"79%"}},{"v":0.1591100550898935,"d":"16%"}]
["Guinea*","LM",{"$f":"VLOOKUP(A26,[1]all_after!$A:$G,7,FALSE)","v":{"v":4999.62339999999,"d":"5,000"}},{"v":0.9531697927487918,"d":"95%"},{"$f":"VLOOKUP(A26,[1]percentages_after!$A:$C,3,FALSE)","v":{"v":0.013124988574139431,"d":"1%"}},{"$f":"VLOOKUP(A26,[1]percentages_after!$A:$D,4,FALSE)+VLOOKUP(A26,[1]percentages_after!$A:$E,5,FALSE)","v":{"v":0.9400448041746523,"d":"94%"}},{"v":0.04683020725120823,"d":"5%"}]
["Guinea-Bissau*","L",{"$f":"VLOOKUP(A27,[1]all_after!$A:$G,7,FALSE)","v":{"v":165.737266640017,"d":"166"}},{"v":0.8388578068080158,"d":"84%"},{"$f":"VLOOKUP(A27,[1]percentages_after!$A:$C,3,FALSE)","v":{"v":0.029866547822050483,"d":"3%"}},{"$f":"VLOOKUP(A27,[1]percentages_after!$A:$D,4,FALSE)+VLOOKUP(A27,[1]percentages_after!$A:$E,5,FALSE)","v":{"v":0.8089912589859654,"d":"81%"}},{"v":0.1611421931919842,"d":"16%"}]
["Kenya*","LM",{"$f":"VLOOKUP(A28,[1]all_after!$A:$G,7,FALSE)","v":{"v":21100.8812750789,"d":"21,101"}},{"v":0.9150750505764267,"d":"92%"},{"$f":"VLOOKUP(A28,[1]percentages_after!$A:$C,3,FALSE)","v":{"v":0.42820344241599523,"d":"43%"}},{"$f":"VLOOKUP(A28,[1]percentages_after!$A:$D,4,FALSE)+VLOOKUP(A28,[1]percentages_after!$A:$E,5,FALSE)","v":{"v":0.48687160816043146,"d":"49%"}},{"v":0.08492494942357331,"d":"8%"}]
["Lesotho*","LM",{"$f":"VLOOKUP(A29,[1]all_after!$A:$G,7,FALSE)","v":{"v":1869.40832591199,"d":"1,869"}},{"v":0.556010148019922,"d":"56%"},{"$f":"VLOOKUP(A29,[1]percentages_after!$A:$C,3,FALSE)","v":{"v":0.27660623569103765,"d":"28%"}},{"$f":"VLOOKUP(A29,[1]percentages_after!$A:$D,4,FALSE)+VLOOKUP(A29,[1]percentages_after!$A:$E,5,FALSE)","v":{"v":0.2794039123288843,"d":"28%"}},{"v":0.443989851980078,"d":"44%"}]
["Liberia*","L",{"$f":"VLOOKUP(A30,[1]all_after!$A:$G,7,FALSE)","v":{"v":1917.40955966499,"d":"1,917"}},{"v":0.6507738493898068,"d":"65%"},{"$f":"VLOOKUP(A30,[1]percentages_after!$A:$C,3,FALSE)","v":{"v":0.02638977142100034,"d":"3%"}},{"$f":"VLOOKUP(A30,[1]percentages_after!$A:$D,4,FALSE)+VLOOKUP(A30,[1]percentages_after!$A:$E,5,FALSE)","v":{"v":0.6243840779688065,"d":"62%"}},{"v":0.34922615061019324,"d":"35%"}]
["Libya*","UM",{"$f":"VLOOKUP(A31,[1]all_after!$A:$G,7,FALSE)","v":{"v":15663.796204,"d":"15,664"}},{"v":1.0000002423422745,"d":"100%"},{"$f":"VLOOKUP(A31,[1]percentages_after!$A:$C,3,FALSE)","v":{"v":0,"d":"0%"}},{"$f":"VLOOKUP(A31,[1]percentages_after!$A:$D,4,FALSE)+VLOOKUP(A31,[1]percentages_after!$A:$E,5,FALSE)","v":{"v":1.0000002423422745,"d":"100%"}},{"v":-2.4234227447017531E-7,"d":"-0%"}]
["Madagascar*","L",{"$f":"VLOOKUP(A32,[1]all_after!$A:$G,7,FALSE)","v":{"v":5540.57865799904,"d":"5,541"}},{"v":0.847312219495759,"d":"85%"},{"$f":"VLOOKUP(A32,[1]percentages_after!$A:$C,3,FALSE)","v":{"v":0.18702198163074604,"d":"19%"}},{"$f":"VLOOKUP(A32,[1]percentages_after!$A:$D,4,FALSE)+VLOOKUP(A32,[1]percentages_after!$A:$E,5,FALSE)","v":{"v":0.660290237865013,"d":"66%"}},{"v":0.15268778050424103,"d":"15%"}]
["Malawi*","L",{"$f":"VLOOKUP(A33,[1]all_after!$A:$G,7,FALSE)","v":{"v":1586.27041551299,"d":"1,586"}},{"v":0.8803290954325715,"d":"88%"},{"$f":"VLOOKUP(A33,[1]percentages_after!$A:$C,3,FALSE)","v":{"v":0.40305864230168786,"d":"40%"}},{"$f":"VLOOKUP(A33,[1]percentages_after!$A:$D,4,FALSE)+VLOOKUP(A33,[1]percentages_after!$A:$E,5,FALSE)","v":{"v":0.47727045313088373,"d":"48%"}},{"v":0.11967090456742846,"d":"12%"}]
["Mali*","L",{"$f":"VLOOKUP(A34,[1]all_after!$A:$G,7,FALSE)","v":{"v":4975.05241243884,"d":"4,975"}},{"v":0.8069945132561667,"d":"81%"},{"$f":"VLOOKUP(A34,[1]percentages_after!$A:$C,3,FALSE)","v":{"v":0.09564321348862764,"d":"10%"}},{"$f":"VLOOKUP(A34,[1]percentages_after!$A:$D,4,FALSE)+VLOOKUP(A34,[1]percentages_after!$A:$E,5,FALSE)","v":{"v":0.7113512997675391,"d":"71%"}},{"v":0.19300548674383333,"d":"19%"}]
["Mauritania*","LM",{"$f":"VLOOKUP(A35,[1]all_after!$A:$G,7,FALSE)","v":{"v":5117.79081021001,"d":"5,118"}},{"v":0.9999998416875484,"d":"100%"},{"$f":"VLOOKUP(A35,[1]percentages_after!$A:$C,3,FALSE)","v":{"v":0.11282602619240417,"d":"11%"}},{"$f":"VLOOKUP(A35,[1]percentages_after!$A:$D,4,FALSE)+VLOOKUP(A35,[1]percentages_after!$A:$E,5,FALSE)","v":{"v":0.8871738154951442,"d":"89%"}},{"v":1.5831245159247942E-7,"d":"0%"}]
["Mauritius*","UM",{"$f":"VLOOKUP(A36,[1]all_after!$A:$G,7,FALSE)","v":{"v":6611.43574046673,"d":"6,611"}},{"v":0.9726283748991026,"d":"97%"},{"$f":"VLOOKUP(A36,[1]percentages_after!$A:$C,3,FALSE)","v":{"v":0.9325916853825055,"d":"93%"}},{"$f":"VLOOKUP(A36,[1]percentages_after!$A:$D,4,FALSE)+VLOOKUP(A36,[1]percentages_after!$A:$E,5,FALSE)","v":{"v":0.04003668951659714,"d":"4%"}},{"v":0.027371625100897412,"d":"3%"}]
["Morocco*","LM",{"$f":"VLOOKUP(A37,[1]all_after!$A:$G,7,FALSE)","v":{"v":72575.6067623022,"d":"72,576"}},{"v":0.4886326354273124,"d":"49%"},{"$f":"VLOOKUP(A37,[1]percentages_after!$A:$C,3,FALSE)","v":{"v":0.025459105096448914,"d":"3%"}},{"$f":"VLOOKUP(A37,[1]percentages_after!$A:$D,4,FALSE)+VLOOKUP(A37,[1]percentages_after!$A:$E,5,FALSE)","v":{"v":0.4631735303308635,"d":"46%"}},{"v":0.5113673645726876,"d":"51%"}]
["Mozambique*","L",{"$f":"VLOOKUP(A38,[1]all_after!$A:$G,7,FALSE)","v":{"v":14670.9848674709,"d":"14,671"}},{"v":0.99857917735863,"d":"100%"},{"$f":"VLOOKUP(A38,[1]percentages_after!$A:$C,3,FALSE)","v":{"v":0.046299550175808765,"d":"5%"}},{"$f":"VLOOKUP(A38,[1]percentages_after!$A:$D,4,FALSE)+VLOOKUP(A38,[1]percentages_after!$A:$E,5,FALSE)","v":{"v":0.9522796271828212,"d":"95%"}},{"v":0.001420822641370001,"d":"0%"}]
["Namibia*","UM",{"$f":"VLOOKUP(A39,[1]all_after!$A:$G,7,FALSE)","v":{"v":7433.63791781699,"d":"7,434"}},{"v":0.7094749647893519,"d":"71%"},{"$f":"VLOOKUP(A39,[1]percentages_after!$A:$C,3,FALSE)","v":{"v":0.39201532711399173,"d":"39%"}},{"$f":"VLOOKUP(A39,[1]percentages_after!$A:$D,4,FALSE)+VLOOKUP(A39,[1]percentages_after!$A:$E,5,FALSE)","v":{"v":0.3174596376753601,"d":"32%"}},{"v":0.2905250352106481,"d":"29%"}]
["Niger*","L",{"$f":"VLOOKUP(A40,[1]all_after!$A:$G,7,FALSE)","v":{"v":3779.00687571574,"d":"3,779"}},{"v":0.9048065040507222,"d":"90%"},{"$f":"VLOOKUP(A40,[1]percentages_after!$A:$C,3,FALSE)","v":{"v":0.055435199482224494,"d":"6%"}},{"$f":"VLOOKUP(A40,[1]percentages_after!$A:$D,4,FALSE)+VLOOKUP(A40,[1]percentages_after!$A:$E,5,FALSE)","v":{"v":0.8493713045684976,"d":"85%"}},{"v":0.09519349594927784,"d":"10%"}]
["Nigeria*","LM",{"$f":"VLOOKUP(A41,[1]all_after!$A:$G,7,FALSE)","v":{"v":60671.4265808027,"d":"60,671"}},{"v":0.9865302890197527,"d":"99%"},{"$f":"VLOOKUP(A41,[1]percentages_after!$A:$C,3,FALSE)","v":{"v":0.029096398411679547,"d":"3%"}},{"$f":"VLOOKUP(A41,[1]percentages_after!$A:$D,4,FALSE)+VLOOKUP(A41,[1]percentages_after!$A:$E,5,FALSE)","v":{"v":0.9574338906080732,"d":"96%"}},{"v":0.013469710980247296,"d":"1%"}]
["Rwanda*","L",{"$f":"VLOOKUP(A42,[1]all_after!$A:$G,7,FALSE)","v":{"v":5124.65597839999,"d":"5,125"}},{"v":0.7420478596081846,"d":"74%"},{"$f":"VLOOKUP(A42,[1]percentages_after!$A:$C,3,FALSE)","v":{"v":0.32207039983888164,"d":"32%"}},{"$f":"VLOOKUP(A42,[1]percentages_after!$A:$D,4,FALSE)+VLOOKUP(A42,[1]percentages_after!$A:$E,5,FALSE)","v":{"v":0.419977459769303,"d":"42%"}},{"v":0.25795214039181535,"d":"26%"}]
["Sao Tomé and Principe*","LM",{"$f":"VLOOKUP(A43,[1]all_after!$A:$G,7,FALSE)","v":{"v":196.295752,"d":"196"}},{"v":1.0000216408147233,"d":"100%"},{"$f":"VLOOKUP(A43,[1]percentages_after!$A:$C,3,FALSE)","v":{"v":0,"d":"0%"}},{"$f":"VLOOKUP(A43,[1]percentages_after!$A:$D,4,FALSE)+VLOOKUP(A43,[1]percentages_after!$A:$E,5,FALSE)","v":{"v":1.0000216408147233,"d":"100%"}},{"v":-2.164081472333379E-5,"d":"-0%"}]
["Senegal*","LM",{"$f":"VLOOKUP(A44,[1]all_after!$A:$G,7,FALSE)","v":{"v":12064.7234180487,"d":"12,065"}},{"v":0.9805935527955463,"d":"98%"},{"$f":"VLOOKUP(A44,[1]percentages_after!$A:$C,3,FALSE)","v":{"v":0.09333989358722773,"d":"9%"}},{"$f":"VLOOKUP(A44,[1]percentages_after!$A:$D,4,FALSE)+VLOOKUP(A44,[1]percentages_after!$A:$E,5,FALSE)","v":{"v":0.8872536592083186,"d":"89%"}},{"v":0.019406447204453725,"d":"2%"}]
["Seychelles*","H",{"$f":"VLOOKUP(A45,[1]all_after!$A:$G,7,FALSE)","v":{"v":2112.34391031,"d":"2,112"}},{"v":0.9328310557681976,"d":"93%"},{"$f":"VLOOKUP(A45,[1]percentages_after!$A:$C,3,FALSE)","v":{"v":0.8943761433822315,"d":"89%"}},{"$f":"VLOOKUP(A45,[1]percentages_after!$A:$D,4,FALSE)+VLOOKUP(A45,[1]percentages_after!$A:$E,5,FALSE)","v":{"v":0.03845491238596606,"d":"4%"}},{"v":0.06716894423180242,"d":"7%"}]
["Sierra Leone*","L",{"$f":"VLOOKUP(A46,[1]all_after!$A:$G,7,FALSE)","v":{"v":986.898687799999,"d":"987"}},{"v":0.9625000131649794,"d":"96%"},{"$f":"VLOOKUP(A46,[1]percentages_after!$A:$C,3,FALSE)","v":{"v":0.04195972748966911,"d":"4%"}},{"$f":"VLOOKUP(A46,[1]percentages_after!$A:$D,4,FALSE)+VLOOKUP(A46,[1]percentages_after!$A:$E,5,FALSE)","v":{"v":0.9205402856753102,"d":"92%"}},{"v":0.03749998683502065,"d":"4%"}]
["South Africa*","UM",{"$f":"VLOOKUP(A47,[1]all_after!$A:$G,7,FALSE)","v":{"v":111306.173577872,"d":"111,306"}},{"v":0.8937491677440692,"d":"89%"},{"$f":"VLOOKUP(A47,[1]percentages_after!$A:$C,3,FALSE)","v":{"v":0.4401894200928717,"d":"44%"}},{"$f":"VLOOKUP(A47,[1]percentages_after!$A:$D,4,FALSE)+VLOOKUP(A47,[1]percentages_after!$A:$E,5,FALSE)","v":{"v":0.45355974765119744,"d":"45%"}},{"v":0.1062508322559308,"d":"11%"}]
["Sudan*","L",{"$f":"VLOOKUP(A48,[1]all_after!$A:$G,7,FALSE)","v":{"v":10483.740855,"d":"10,484"}},{"v":0.9689003324758355,"d":"97%"},{"$f":"VLOOKUP(A48,[1]percentages_after!$A:$C,3,FALSE)","v":{"v":0.11072574342071526,"d":"11%"}},{"$f":"VLOOKUP(A48,[1]percentages_after!$A:$D,4,FALSE)+VLOOKUP(A48,[1]percentages_after!$A:$E,5,FALSE)","v":{"v":0.8581745890551202,"d":"86%"}},{"v":0.031099667524164487,"d":"3%"}]
["Tanzania*","LM",{"$f":"VLOOKUP(A49,[1]all_after!$A:$G,7,FALSE)","v":{"v":15652.7733068841,"d":"15,653"}},{"v":0.9470091791005939,"d":"95%"},{"$f":"VLOOKUP(A49,[1]percentages_after!$A:$C,3,FALSE)","v":{"v":0.4641266986729377,"d":"46%"}},{"$f":"VLOOKUP(A49,[1]percentages_after!$A:$D,4,FALSE)+VLOOKUP(A49,[1]percentages_after!$A:$E,5,FALSE)","v":{"v":0.48288248042765614,"d":"48%"}},{"v":0.0529908208994061,"d":"5%"}]
["The Gambia*","L",{"$f":"VLOOKUP(A50,[1]all_after!$A:$G,7,FALSE)","v":{"v":708.3793097,"d":"708"}},{"v":0.8276921586661073,"d":"83%"},{"$f":"VLOOKUP(A50,[1]percentages_after!$A:$C,3,FALSE)","v":{"v":0.01622012365785505,"d":"2%"}},{"$f":"VLOOKUP(A50,[1]percentages_after!$A:$D,4,FALSE)+VLOOKUP(A50,[1]percentages_after!$A:$E,5,FALSE)","v":{"v":0.8114720350082523,"d":"81%"}},{"v":0.17230784133389265,"d":"17%"}]
["Togo*","L",{"$f":"VLOOKUP(A51,[1]all_after!$A:$G,7,FALSE)","v":{"v":2791.48676082555,"d":"2,791"}},{"v":0.9052917733532924,"d":"91%"},{"$f":"VLOOKUP(A51,[1]percentages_after!$A:$C,3,FALSE)","v":{"v":0.07007376955717698,"d":"7%"}},{"$f":"VLOOKUP(A51,[1]percentages_after!$A:$D,4,FALSE)+VLOOKUP(A51,[1]percentages_after!$A:$E,5,FALSE)","v":{"v":0.8352180037961153,"d":"84%"}},{"v":0.09470822664670764,"d":"9%"}]
["Tunisia*","LM",{"$f":"VLOOKUP(A52,[1]all_after!$A:$G,7,FALSE)","v":{"v":25989.8117086279,"d":"25,990"}},{"v":0.9459006581351592,"d":"95%"},{"$f":"VLOOKUP(A52,[1]percentages_after!$A:$C,3,FALSE)","v":{"v":0.36511922850329026,"d":"37%"}},{"$f":"VLOOKUP(A52,[1]percentages_after!$A:$D,4,FALSE)+VLOOKUP(A52,[1]percentages_after!$A:$E,5,FALSE)","v":{"v":0.580781429631869,"d":"58%"}},{"v":0.05409934186484078,"d":"5%"}]
["Uganda*","L",{"$f":"VLOOKUP(A53,[1]all_after!$A:$G,7,FALSE)","v":{"v":9086.03668035999,"d":"9,086"}},{"v":0.800576781262983,"d":"80%"},{"$f":"VLOOKUP(A53,[1]percentages_after!$A:$C,3,FALSE)","v":{"v":0.3935159108182621,"d":"39%"}},{"$f":"VLOOKUP(A53,[1]percentages_after!$A:$D,4,FALSE)+VLOOKUP(A53,[1]percentages_after!$A:$E,5,FALSE)","v":{"v":0.40706087044472095,"d":"41%"}},{"v":0.19942321873701696,"d":"20%"}]
["Zambia*","LM",{"$f":"VLOOKUP(A54,[1]all_after!$A:$G,7,FALSE)","v":{"v":9003.919006778,"d":"9,004"}},{"v":0.9986273747277494,"d":"100%"},{"$f":"VLOOKUP(A54,[1]percentages_after!$A:$C,3,FALSE)","v":{"v":0.39898959523021565,"d":"40%"}},{"$f":"VLOOKUP(A54,[1]percentages_after!$A:$D,4,FALSE)+VLOOKUP(A54,[1]percentages_after!$A:$E,5,FALSE)","v":{"v":0.5996377794975338,"d":"60%"}},{"v":1.3726252722505716E-3,"d":"0%"}]
["Zimbabwe*","LM",{"$f":"VLOOKUP(A55,[1]all_after!$A:$G,7,FALSE)","v":{"v":8603.70973701801,"d":"8,604"}},{"v":0.6843280607977204,"d":"68%"},{"$f":"VLOOKUP(A55,[1]percentages_after!$A:$C,3,FALSE)","v":{"v":0.1899320235048254,"d":"19%"}},{"$f":"VLOOKUP(A55,[1]percentages_after!$A:$D,4,FALSE)+VLOOKUP(A55,[1]percentages_after!$A:$E,5,FALSE)","v":{"v":0.49439603729289494,"d":"49%"}},{"v":0.31567193920227965,"d":"32%"}]
["Central Asia",null,{"v":94166,"d":"94,166"},{"v":0.78,"d":"78%"},{"v":0.3,"d":"30%"},{"v":0.48,"d":"48%"},{"v":0.22,"d":"22%"}]
["Kazakhstan*","UM",{"$f":"VLOOKUP(A57,[1]all_after!$A:$G,7,FALSE)","v":{"v":50934.3607237899,"d":"50,934"}},{"$f":"SUM(E57:F57)","v":{"v":0.5910532609460808,"d":"59%"}},{"$f":"VLOOKUP(A57,[1]percentages_after!$A:$C,3,FALSE)","v":{"v":0.21945087444239358,"d":"22%"}},{"$f":"VLOOKUP(A57,[1]percentages_after!$A:$D,4,FALSE)+VLOOKUP(A57,[1]percentages_after!$A:$E,5,FALSE)","v":{"v":0.37160238650368727,"d":"37%"}},{"$f":"1-D57","v":{"v":0.4089467390539192,"d":"41%"}}]
["Kyrgyz Republic*","LM",{"$f":"VLOOKUP(A58,[1]all_after!$A:$G,7,FALSE)","v":{"v":9802.95942,"d":"9,803"}},{"v":0.9964929549815479,"d":"100%"},{"$f":"VLOOKUP(A58,[1]percentages_after!$A:$C,3,FALSE)","v":{"v":0.23423844796452295,"d":"23%"}},{"$f":"VLOOKUP(A58,[1]percentages_after!$A:$D,4,FALSE)+VLOOKUP(A58,[1]percentages_after!$A:$E,5,FALSE)","v":{"v":0.7622545070170249,"d":"76%"}},{"$f":"1-D58","v":{"v":0.003507045018452115,"d":"0%"}}]
["Tajikistan*","LM",{"$f":"VLOOKUP(A59,[1]all_after!$A:$G,7,FALSE)","v":{"v":5164.67194029,"d":"5,165"}},{"v":0.999999624314957,"d":"100%"},{"$f":"VLOOKUP(A59,[1]percentages_after!$A:$C,3,FALSE)","v":{"v":0.07785973720093066,"d":"8%"}},{"$f":"VLOOKUP(A59,[1]percentages_after!$A:$D,4,FALSE)+VLOOKUP(A59,[1]percentages_after!$A:$E,5,FALSE)","v":{"v":0.9221398871140264,"d":"92%"}},{"$f":"1-D59","v":{"v":3.7568504296370264E-7,"d":"0%"}}]
["Uzbekistan*","LM",{"$f":"VLOOKUP(A60,[1]all_after!$A:$G,7,FALSE)","v":{"v":28263.98360202,"d":"28,264"}},{"v":1.0000002263651186,"d":"100%"},{"$f":"VLOOKUP(A60,[1]percentages_after!$A:$C,3,FALSE)","v":{"v":0.5189923050674158,"d":"52%"}},{"$f":"VLOOKUP(A60,[1]percentages_after!$A:$D,4,FALSE)+VLOOKUP(A60,[1]percentages_after!$A:$E,5,FALSE)","v":{"v":0.4810079212977029,"d":"48%"}},{"$f":"1-D60","v":{"v":-2.263651186495963E-7,"d":"-0%"}}]
["East Asia",null,{"v":7140443,"d":"7,140,443"},{"v":0.86,"d":"86%"},{"v":0.63,"d":"63%"},{"v":0.23,"d":"23%"},{"v":0.14,"d":"14%"}]
["Brunei Darussalam*","H",{"$f":"VLOOKUP(A62,[1]all_after!$A:$G,7,FALSE)","v":{"v":9183.99144015028,"d":"9,184"}},{"$f":"SUM(E62:F62)","v":{"v":0.9918410812293774,"d":"99%"}},{"$f":"VLOOKUP(A62,[1]percentages_after!$A:$C,3,FALSE)","v":{"v":0.987126355580712,"d":"99%"}},{"$f":"VLOOKUP(A62,[1]percentages_after!$A:$D,4,FALSE)+VLOOKUP(A62,[1]percentages_after!$A:$E,5,FALSE)","v":{"v":4.7147256486653995E-3,"d":"0%"}},{"$f":"1-D62","v":{"v":0.00815891877062258,"d":"1%"}}]
["Cambodia*","LM",{"$f":"VLOOKUP(A63,[1]all_after!$A:$G,7,FALSE)","v":{"v":29937.63252503,"d":"29,938"}},{"v":0.6004155467193873,"d":"60%"},{"$f":"VLOOKUP(A63,[1]percentages_after!$A:$C,3,FALSE)","v":{"v":0.3022226287411126,"d":"30%"}},{"$f":"VLOOKUP(A63,[1]percentages_after!$A:$D,4,FALSE)+VLOOKUP(A63,[1]percentages_after!$A:$E,5,FALSE)","v":{"v":0.29819291797827474,"d":"30%"}},{"v":0.39958445328061265,"d":"40%"}]
["China*","UM",{"$f":"VLOOKUP(A64,[1]all_after!$A:$G,7,FALSE)","v":{"v":2585783.91319299,"d":"2,585,784"}},{"v":0.8898497272955492,"d":"89%"},{"$f":"VLOOKUP(A64,[1]percentages_after!$A:$C,3,FALSE)","v":{"v":0.5401141769326815,"d":"54%"}},{"$f":"VLOOKUP(A64,[1]percentages_after!$A:$D,4,FALSE)+VLOOKUP(A64,[1]percentages_after!$A:$E,5,FALSE)","v":{"v":0.3497355503628677,"d":"35%"}},{"v":0.11015027270445077,"d":"11%"}]
["Chinese Taipei*","H",{"$f":"VLOOKUP(A65,[1]all_after!$A:$G,7,FALSE)","v":{"v":403931.695999999,"d":"403,932"}},{"v":0.9726667748301707,"d":"97%"},{"$f":"VLOOKUP(A65,[1]percentages_after!$A:$C,3,FALSE)","v":{"v":0.7217696528573503,"d":"72%"}},{"$f":"VLOOKUP(A65,[1]percentages_after!$A:$D,4,FALSE)+VLOOKUP(A65,[1]percentages_after!$A:$E,5,FALSE)","v":{"v":0.2508971219728205,"d":"25%"}},{"v":0.02733322516982928,"d":"3%"}]
["Hong Kong, China*","H",{"$f":"VLOOKUP(A66,[1]all_after!$A:$G,7,FALSE)","v":{"v":667081.164087979,"d":"667,081"}},{"v":0.9999999938718417,"d":"100%"},{"$f":"VLOOKUP(A66,[1]percentages_after!$A:$C,3,FALSE)","v":{"v":0.9999999938718417,"d":"100%"}},{"$f":"VLOOKUP(A66,[1]percentages_after!$A:$D,4,FALSE)+VLOOKUP(A66,[1]percentages_after!$A:$E,5,FALSE)","v":{"v":0,"d":"0%"}},{"v":6.1281583141337137E-9,"d":"0%"}]
["Indonesia*","UM",{"$f":"VLOOKUP(A67,[1]all_after!$A:$G,7,FALSE)","v":{"v":237384.430419999,"d":"237,384"}},{"v":0.6135672408771813,"d":"61%"},{"$f":"VLOOKUP(A67,[1]percentages_after!$A:$C,3,FALSE)","v":{"v":0.31701000721427314,"d":"32%"}},{"$f":"VLOOKUP(A67,[1]percentages_after!$A:$D,4,FALSE)+VLOOKUP(A67,[1]percentages_after!$A:$E,5,FALSE)","v":{"v":0.29655723366290815,"d":"30%"}},{"v":0.3864327591228187,"d":"39%"}]
["Japan","H",{"$f":"VLOOKUP(A68,[1]all_after!$A:$G,7,FALSE)","v":{"v":853446.0443547,"d":"853,446"}},{"v":0.9001078686595116,"d":"90%"},{"$f":"VLOOKUP(A68,[1]percentages_after!$A:$C,3,FALSE)","v":{"v":0.8250246921378475,"d":"83%"}},{"$f":"VLOOKUP(A68,[1]percentages_after!$A:$D,4,FALSE)+VLOOKUP(A68,[1]percentages_after!$A:$E,5,FALSE)","v":{"v":0.07508317652166421,"d":"8%"}},{"v":0.09989213134048835,"d":"10%"}]
["Korea, Republic of*","H",{"$f":"VLOOKUP(A69,[1]all_after!$A:$G,7,FALSE)","v":{"v":731369.656878,"d":"731,370"}},{"v":0.6906189985459781,"d":"69%"},{"$f":"VLOOKUP(A69,[1]percentages_after!$A:$C,3,FALSE)","v":{"v":0.34403303122263934,"d":"34%"}},{"$f":"VLOOKUP(A69,[1]percentages_after!$A:$D,4,FALSE)+VLOOKUP(A69,[1]percentages_after!$A:$E,5,FALSE)","v":{"v":0.3465859673233388,"d":"35%"}},{"v":0.3093810014540219,"d":"31%"}]
["Lao People's Democratic Republic*","LM",{"$f":"VLOOKUP(A70,[1]all_after!$A:$G,7,FALSE)","v":{"v":6808.12712932629,"d":"6,808"}},{"v":0.3730482630178686,"d":"37%"},{"$f":"VLOOKUP(A70,[1]percentages_after!$A:$C,3,FALSE)","v":{"v":0.024600010666453766,"d":"2%"}},{"$f":"VLOOKUP(A70,[1]percentages_after!$A:$D,4,FALSE)+VLOOKUP(A70,[1]percentages_after!$A:$E,5,FALSE)","v":{"v":0.3484482523514148,"d":"35%"}},{"v":0.6269517369821314,"d":"63%"}]
["Macao, China*","H",{"$f":"VLOOKUP(A71,[1]all_after!$A:$G,7,FALSE)","v":{"v":16941.75049314,"d":"16,942"}},{"v":0.999999970892028,"d":"100%"},{"$f":"VLOOKUP(A71,[1]percentages_after!$A:$C,3,FALSE)","v":{"v":0.999999970892028,"d":"100%"}},{"$f":"VLOOKUP(A71,[1]percentages_after!$A:$D,4,FALSE)+VLOOKUP(A71,[1]percentages_after!$A:$E,5,FALSE)","v":{"v":0,"d":"0%"}},{"v":2.9107972032704765E-8,"d":"0%"}]
["Malaysia*","UM",{"$f":"VLOOKUP(A72,[1]all_after!$A:$G,7,FALSE)","v":{"v":293935.457340542,"d":"293,935"}},{"v":0.8524813653553007,"d":"85%"},{"$f":"VLOOKUP(A72,[1]percentages_after!$A:$C,3,FALSE)","v":{"v":0.6890811398957525,"d":"69%"}},{"$f":"VLOOKUP(A72,[1]percentages_after!$A:$D,4,FALSE)+VLOOKUP(A72,[1]percentages_after!$A:$E,5,FALSE)","v":{"v":0.1634002254595483,"d":"16%"}},{"v":0.14751863464469928,"d":"15%"}]
["Mongolia*","LM",{"$f":"VLOOKUP(A73,[1]all_after!$A:$G,7,FALSE)","v":{"v":8704.3938223625,"d":"8,704"}},{"v":0.8284379299881927,"d":"83%"},{"$f":"VLOOKUP(A73,[1]percentages_after!$A:$C,3,FALSE)","v":{"v":0.01749346400306503,"d":"2%"}},{"$f":"VLOOKUP(A73,[1]percentages_after!$A:$D,4,FALSE)+VLOOKUP(A73,[1]percentages_after!$A:$E,5,FALSE)","v":{"v":0.8109444659851276,"d":"81%"}},{"v":0.17156207001180734,"d":"17%"}]
["Myanmar*","LM",{"$f":"VLOOKUP(A74,[1]all_after!$A:$G,7,FALSE)","v":{"v":17403.3589305498,"d":"17,403"}},{"v":0.5300700880107957,"d":"53%"},{"$f":"VLOOKUP(A74,[1]percentages_after!$A:$C,3,FALSE)","v":{"v":0.055919664926962195,"d":"6%"}},{"$f":"VLOOKUP(A74,[1]percentages_after!$A:$D,4,FALSE)+VLOOKUP(A74,[1]percentages_after!$A:$E,5,FALSE)","v":{"v":0.4741504230838335,"d":"47%"}},{"v":0.4699299119892043,"d":"47%"}]
["Philippines*","LM",{"$f":"VLOOKUP(A75,[1]all_after!$A:$G,7,FALSE)","v":{"v":145889.816698,"d":"145,890"}},{"v":0.6443704716868613,"d":"64%"},{"$f":"VLOOKUP(A75,[1]percentages_after!$A:$C,3,FALSE)","v":{"v":0.4232045210380089,"d":"42%"}},{"$f":"VLOOKUP(A75,[1]percentages_after!$A:$D,4,FALSE)+VLOOKUP(A75,[1]percentages_after!$A:$E,5,FALSE)","v":{"v":0.22116595064885247,"d":"22%"}},{"v":0.35562952831313865,"d":"36%"}]
["Singapore*","H",{"$f":"VLOOKUP(A76,[1]all_after!$A:$G,7,FALSE)","v":{"v":475412.874995888,"d":"475,413"}},{"v":0.9988437313653048,"d":"100%"},{"$f":"VLOOKUP(A76,[1]percentages_after!$A:$C,3,FALSE)","v":{"v":0.9919527736897721,"d":"99%"}},{"$f":"VLOOKUP(A76,[1]percentages_after!$A:$D,4,FALSE)+VLOOKUP(A76,[1]percentages_after!$A:$E,5,FALSE)","v":{"v":6.890957675532737E-3,"d":"1%"}},{"v":1.1562686346952011E-3,"d":"0%"}]
["Thailand*","UM",{"$f":"VLOOKUP(A77,[1]all_after!$A:$G,7,FALSE)","v":{"v":297519.772814458,"d":"297,520"}},{"v":0.7348902492485869,"d":"73%"},{"$f":"VLOOKUP(A77,[1]percentages_after!$A:$C,3,FALSE)","v":{"v":0.538470631664232,"d":"54%"}},{"$f":"VLOOKUP(A77,[1]percentages_after!$A:$D,4,FALSE)+VLOOKUP(A77,[1]percentages_after!$A:$E,5,FALSE)","v":{"v":0.19641961758435494,"d":"20%"}},{"v":0.2651097507514131,"d":"27%"}]
["Timor-Leste*","LM",{"$f":"VLOOKUP(A78,[1]all_after!$A:$G,7,FALSE)","v":{"v":920.746147868,"d":"921"}},{"v":1.000004183706887,"d":"100%"},{"$f":"VLOOKUP(A78,[1]percentages_after!$A:$C,3,FALSE)","v":{"v":0,"d":"0%"}},{"$f":"VLOOKUP(A78,[1]percentages_after!$A:$D,4,FALSE)+VLOOKUP(A78,[1]percentages_after!$A:$E,5,FALSE)","v":{"v":1.000004183706887,"d":"100%"}},{"v":-4.1837068869288174E-6,"d":"-0%"}]
["Viet Nam*","LM",{"$f":"VLOOKUP(A79,[1]all_after!$A:$G,7,FALSE)","v":{"v":358788.312545077,"d":"358,788"}},{"v":0.6507921017373279,"d":"65%"},{"$f":"VLOOKUP(A79,[1]percentages_after!$A:$C,3,FALSE)","v":{"v":0.43953864851767405,"d":"44%"}},{"$f":"VLOOKUP(A79,[1]percentages_after!$A:$D,4,FALSE)+VLOOKUP(A79,[1]percentages_after!$A:$E,5,FALSE)","v":{"v":0.21125345321965394,"d":"21%"}},{"v":0.34920789826267207,"d":"35%"}]
["Europe",null,{"v":4939819,"d":"4,939,819"},{"v":0.81,"d":"81%"},{"v":0.54,"d":"54%"},{"v":0.27,"d":"27%"},{"v":0.19,"d":"19%"}]
["Albania*","UM",{"$f":"VLOOKUP(A81,[1]all_after!$A:$G,7,FALSE)","v":{"v":8423.77326672926,"d":"8,424"}},{"$f":"SUM(E81:F81)","v":{"v":0.7667609033959523,"d":"77%"}},{"$f":"VLOOKUP(A81,[1]percentages_after!$A:$C,3,FALSE)","v":{"v":0.5502486656789755,"d":"55%"}},{"$f":"VLOOKUP(A81,[1]percentages_after!$A:$D,4,FALSE)+VLOOKUP(A81,[1]percentages_after!$A:$E,5,FALSE)","v":{"v":0.2165122377169768,"d":"22%"}},{"$f":"1-D81","v":{"v":0.23323909660404774,"d":"23%"}}]
["Andorra*","H",{"$f":"VLOOKUP(A82,[1]all_after!$A:$G,7,FALSE)","v":{"v":1864.100189,"d":"1,864"}},{"v":0.9999998986105998,"d":"100%"},{"$f":"VLOOKUP(A82,[1]percentages_after!$A:$C,3,FALSE)","v":{"v":0,"d":"0%"}},{"$f":"VLOOKUP(A82,[1]percentages_after!$A:$D,4,FALSE)+VLOOKUP(A82,[1]percentages_after!$A:$E,5,FALSE)","v":{"v":0.9999998986105998,"d":"100%"}},{"v":1.0138940020887333E-7,"d":"0%"}]
["Armenia*","UM",{"$f":"VLOOKUP(A83,[1]all_after!$A:$G,7,FALSE)","v":{"v":8662.26894574,"d":"8,662"}},{"v":0.6901413518152195,"d":"69%"},{"$f":"VLOOKUP(A83,[1]percentages_after!$A:$C,3,FALSE)","v":{"v":0.23091063236771003,"d":"23%"}},{"$f":"VLOOKUP(A83,[1]percentages_after!$A:$D,4,FALSE)+VLOOKUP(A83,[1]percentages_after!$A:$E,5,FALSE)","v":{"v":0.45923071944750954,"d":"46%"}},{"v":0.3098586481847805,"d":"31%"}]
["Azerbaijan*","UM",{"$f":"VLOOKUP(A84,[1]all_after!$A:$G,7,FALSE)","v":{"v":14527.2876373799,"d":"14,527"}},{"v":0.8870540958273592,"d":"89%"},{"$f":"VLOOKUP(A84,[1]percentages_after!$A:$C,3,FALSE)","v":{"v":0.2810256189527968,"d":"28%"}},{"$f":"VLOOKUP(A84,[1]percentages_after!$A:$D,4,FALSE)+VLOOKUP(A84,[1]percentages_after!$A:$E,5,FALSE)","v":{"v":0.6060284768745623,"d":"61%"}},{"v":0.11294590417264083,"d":"11%"}]
["Belarus*","UM",{"$f":"VLOOKUP(A85,[1]all_after!$A:$G,7,FALSE)","v":{"v":41810.6904,"d":"41,811"}},{"v":0.9831289463710936,"d":"98%"},{"$f":"VLOOKUP(A85,[1]percentages_after!$A:$C,3,FALSE)","v":{"v":0.126860378273017,"d":"13%"}},{"$f":"VLOOKUP(A85,[1]percentages_after!$A:$D,4,FALSE)+VLOOKUP(A85,[1]percentages_after!$A:$E,5,FALSE)","v":{"v":0.8562685680980766,"d":"86%"}},{"v":0.016871053628906396,"d":"2%"}]
["Bosnia and Herzegovina*","UM",{"$f":"VLOOKUP(A86,[1]all_after!$A:$G,7,FALSE)","v":{"v":15379.6321671609,"d":"15,380"}},{"v":0.6174302412950976,"d":"62%"},{"$f":"VLOOKUP(A86,[1]percentages_after!$A:$C,3,FALSE)","v":{"v":0.120380642389692,"d":"12%"}},{"$f":"VLOOKUP(A86,[1]percentages_after!$A:$D,4,FALSE)+VLOOKUP(A86,[1]percentages_after!$A:$E,5,FALSE)","v":{"v":0.4970495989054056,"d":"50%"}},{"v":0.3825697587049024,"d":"38%"}]
["European Union","H",{"$f":"VLOOKUP(A87,[1]all_after!$A:$G,7,FALSE)","v":{"v":2806321.5915345,"d":"2,806,322"}},{"v":0.8350724689106572,"d":"84%"},{"$f":"VLOOKUP(A87,[1]percentages_after!$A:$C,3,FALSE)","v":{"v":0.603217958022538,"d":"60%"}},{"$f":"VLOOKUP(A87,[1]percentages_after!$A:$D,4,FALSE)+VLOOKUP(A87,[1]percentages_after!$A:$E,5,FALSE)","v":{"v":0.2318545108881193,"d":"23%"}},{"v":0.16492753108934277,"d":"16%"}]
["Georgia*","UM",{"$f":"VLOOKUP(A88,[1]all_after!$A:$G,7,FALSE)","v":{"v":13547.5461892,"d":"13,548"}},{"v":0.8613840349408033,"d":"86%"},{"$f":"VLOOKUP(A88,[1]percentages_after!$A:$C,3,FALSE)","v":{"v":0.7178916287994079,"d":"72%"}},{"$f":"VLOOKUP(A88,[1]percentages_after!$A:$D,4,FALSE)+VLOOKUP(A88,[1]percentages_after!$A:$E,5,FALSE)","v":{"v":0.1434924061413954,"d":"14%"}},{"v":0.1386159650591967,"d":"14%"}]
["Greenland*","H",{"$f":"VLOOKUP(A89,[1]all_after!$A:$G,7,FALSE)","v":{"v":829.144669,"d":"829"}},{"v":0.9999943688958337,"d":"100%"},{"$f":"VLOOKUP(A89,[1]percentages_after!$A:$C,3,FALSE)","v":{"v":0,"d":"0%"}},{"$f":"VLOOKUP(A89,[1]percentages_after!$A:$D,4,FALSE)+VLOOKUP(A89,[1]percentages_after!$A:$E,5,FALSE)","v":{"v":0.9999943688958337,"d":"100%"}},{"v":5.6311041662926442E-6,"d":"0%"}]
["Iceland","H",{"$f":"VLOOKUP(A90,[1]all_after!$A:$G,7,FALSE)","v":{"v":9287.75273909999,"d":"9,288"}},{"v":0.9759023796835403,"d":"98%"},{"$f":"VLOOKUP(A90,[1]percentages_after!$A:$C,3,FALSE)","v":{"v":0.9519331800015974,"d":"95%"}},{"$f":"VLOOKUP(A90,[1]percentages_after!$A:$D,4,FALSE)+VLOOKUP(A90,[1]percentages_after!$A:$E,5,FALSE)","v":{"v":0.023969199681942926,"d":"2%"}},{"v":0.024097620316459678,"d":"2%"}]
["Moldova, Republic of*","UM",{"$f":"VLOOKUP(A91,[1]all_after!$A:$G,7,FALSE)","v":{"v":9218.98158299999,"d":"9,219"}},{"v":0.7415211689549166,"d":"74%"},{"$f":"VLOOKUP(A91,[1]percentages_after!$A:$C,3,FALSE)","v":{"v":0.5554702494951286,"d":"56%"}},{"$f":"VLOOKUP(A91,[1]percentages_after!$A:$D,4,FALSE)+VLOOKUP(A91,[1]percentages_after!$A:$E,5,FALSE)","v":{"v":0.186050919459788,"d":"19%"}},{"v":0.2584788310450834,"d":"26%"}]
["Montenegro*","UM",{"$f":"VLOOKUP(A92,[1]all_after!$A:$G,7,FALSE)","v":{"v":3721.30253175752,"d":"3,721"}},{"v":0.5998087983848559,"d":"60%"},{"$f":"VLOOKUP(A92,[1]percentages_after!$A:$C,3,FALSE)","v":{"v":0.3643912281863241,"d":"36%"}},{"$f":"VLOOKUP(A92,[1]percentages_after!$A:$D,4,FALSE)+VLOOKUP(A92,[1]percentages_after!$A:$E,5,FALSE)","v":{"v":0.2354175701985318,"d":"24%"}},{"v":0.4001912016151441,"d":"40%"}]
["North Macedonia*","UM",{"$f":"VLOOKUP(A93,[1]all_after!$A:$G,7,FALSE)","v":{"v":12756.7645565135,"d":"12,757"}},{"v":0.7403969837459627,"d":"74%"},{"$f":"VLOOKUP(A93,[1]percentages_after!$A:$C,3,FALSE)","v":{"v":0.4389036087634933,"d":"44%"}},{"$f":"VLOOKUP(A93,[1]percentages_after!$A:$D,4,FALSE)+VLOOKUP(A93,[1]percentages_after!$A:$E,5,FALSE)","v":{"v":0.3014933749824694,"d":"30%"}},{"v":0.25960301625403726,"d":"26%"}]
["Norway","H",{"$f":"VLOOKUP(A94,[1]all_after!$A:$G,7,FALSE)","v":{"v":105735.0455002,"d":"105,735"}},{"v":0.969704599973961,"d":"97%"},{"$f":"VLOOKUP(A94,[1]percentages_after!$A:$C,3,FALSE)","v":{"v":0.9164159294736078,"d":"92%"}},{"$f":"VLOOKUP(A94,[1]percentages_after!$A:$D,4,FALSE)+VLOOKUP(A94,[1]percentages_after!$A:$E,5,FALSE)","v":{"v":0.053288670500353096,"d":"5%"}},{"v":0.030295400026039032,"d":"3%"}]
["Russian Federation*","UM",{"$f":"VLOOKUP(A95,[1]all_after!$A:$G,7,FALSE)","v":{"v":293484.905202457,"d":"293,485"}},{"v":0.8467948967547768,"d":"85%"},{"$f":"VLOOKUP(A95,[1]percentages_after!$A:$C,3,FALSE)","v":{"v":0.22990483941057946,"d":"23%"}},{"$f":"VLOOKUP(A95,[1]percentages_after!$A:$D,4,FALSE)+VLOOKUP(A95,[1]percentages_after!$A:$E,5,FALSE)","v":{"v":0.6168900573441973,"d":"62%"}},{"v":0.15320510324522318,"d":"15%"}]
["Serbia*","UM",{"$f":"VLOOKUP(A96,[1]all_after!$A:$G,7,FALSE)","v":{"v":41143.747552,"d":"41,144"}},{"v":0.5369591083573056,"d":"54%"},{"$f":"VLOOKUP(A96,[1]percentages_after!$A:$C,3,FALSE)","v":{"v":0.00831669501101065,"d":"1%"}},{"$f":"VLOOKUP(A96,[1]percentages_after!$A:$D,4,FALSE)+VLOOKUP(A96,[1]percentages_after!$A:$E,5,FALSE)","v":{"v":0.528642413346295,"d":"53%"}},{"v":0.46304089164269435,"d":"46%"}]
["Switzerland","H",{"$f":"VLOOKUP(A97,[1]all_after!$A:$G,7,FALSE)","v":{"v":357012.239160799,"d":"357,012"}},{"v":0.7988753009432308,"d":"80%"},{"$f":"VLOOKUP(A97,[1]percentages_after!$A:$C,3,FALSE)","v":{"v":0.6058445797500538,"d":"61%"}},{"$f":"VLOOKUP(A97,[1]percentages_after!$A:$D,4,FALSE)+VLOOKUP(A97,[1]percentages_after!$A:$E,5,FALSE)","v":{"v":0.19303072119317694,"d":"19%"}},{"v":0.20112469905676922,"d":"20%"}]
["Türkiye*","UM",{"$f":"VLOOKUP(A98,[1]all_after!$A:$G,7,FALSE)","v":{"v":363753.17,"d":"363,753"}},{"v":0.7463675161923675,"d":"75%"},{"$f":"VLOOKUP(A98,[1]percentages_after!$A:$C,3,FALSE)","v":{"v":0.3056131991921885,"d":"31%"}},{"$f":"VLOOKUP(A98,[1]percentages_after!$A:$D,4,FALSE)+VLOOKUP(A98,[1]percentages_after!$A:$E,5,FALSE)","v":{"v":0.440754317000179,"d":"44%"}},{"v":0.2536324838076325,"d":"25%"}]
["Ukraine*","LM",{"$f":"VLOOKUP(A99,[1]all_after!$A:$G,7,FALSE)","v":{"v":55295.7483905099,"d":"55,296"}},{"v":0.7479287504696821,"d":"75%"},{"$f":"VLOOKUP(A99,[1]percentages_after!$A:$C,3,FALSE)","v":{"v":0.32643739392987264,"d":"33%"}},{"$f":"VLOOKUP(A99,[1]percentages_after!$A:$D,4,FALSE)+VLOOKUP(A99,[1]percentages_after!$A:$E,5,FALSE)","v":{"v":0.4214913565398094,"d":"42%"}},{"v":0.2520712495303179,"d":"25%"}]
["United Kingdom*","H",{"$f":"VLOOKUP(A100,[1]all_after!$A:$G,7,FALSE)","v":{"v":771119.670871999,"d":"771,120"}},{"v":0.7578525513934216,"d":"76%"},{"$f":"VLOOKUP(A100,[1]percentages_after!$A:$C,3,FALSE)","v":{"v":0.5668557767508411,"d":"57%"}},{"$f":"VLOOKUP(A100,[1]percentages_after!$A:$D,4,FALSE)+VLOOKUP(A100,[1]percentages_after!$A:$E,5,FALSE)","v":{"v":0.19099677464258047,"d":"19%"}},{"v":0.24214744860657844,"d":"24%"}]
["UNMIK/Kosovo*","UM",{"$f":"VLOOKUP(A101,[1]all_after!$A:$G,7,FALSE)","v":{"v":5923.65075295112,"d":"5,924"}},{"v":0.9999998728906967,"d":"100%"},{"$f":"VLOOKUP(A101,[1]percentages_after!$A:$C,3,FALSE)","v":{"v":0,"d":"0%"}},{"$f":"VLOOKUP(A101,[1]percentages_after!$A:$D,4,FALSE)+VLOOKUP(A101,[1]percentages_after!$A:$E,5,FALSE)","v":{"v":0.9999998728906967,"d":"100%"}},{"v":1.2710930330506187E-7,"d":"0%"}]
["Middle East",null,{"v":940053,"d":"940,053"},{"v":0.94,"d":"94%"},{"v":0.3,"d":"30%"},{"v":0.64,"d":"64%"},{"v":0.06,"d":"6%"}]
["Bahrain, Kingdom of*","H",{"$f":"VLOOKUP(A103,[1]all_after!$A:$G,7,FALSE)","v":{"v":15483.5717428275,"d":"15,484"}},{"$f":"SUM(E103:F103)","v":{"v":0.8406025570959892,"d":"84%"}},{"$f":"VLOOKUP(A103,[1]percentages_after!$A:$C,3,FALSE)","v":{"v":0.15806688796683716,"d":"16%"}},{"$f":"VLOOKUP(A103,[1]percentages_after!$A:$D,4,FALSE)+VLOOKUP(A103,[1]percentages_after!$A:$E,5,FALSE)","v":{"v":0.6825356691291521,"d":"68%"}},{"$f":"1-D103","v":{"v":0.1593974429040108,"d":"16%"}}]
["Iran*","LM",{"$f":"VLOOKUP(A104,[1]all_after!$A:$G,7,FALSE)","v":{"v":52865.113699342,"d":"52,865"}},{"v":0.9999999300230011,"d":"100%"},{"$f":"VLOOKUP(A104,[1]percentages_after!$A:$C,3,FALSE)","v":{"v":0,"d":"0%"}},{"$f":"VLOOKUP(A104,[1]percentages_after!$A:$D,4,FALSE)+VLOOKUP(A104,[1]percentages_after!$A:$E,5,FALSE)","v":{"v":0.9999999300230011,"d":"100%"}},{"v":6.9976998862131268E-8,"d":"0%"}]
["Israel*","H",{"$f":"VLOOKUP(A105,[1]all_after!$A:$G,7,FALSE)","v":{"v":92911.1100000003,"d":"92,911"}},{"v":0.8238809115508333,"d":"82%"},{"$f":"VLOOKUP(A105,[1]percentages_after!$A:$C,3,FALSE)","v":{"v":0.5864567757289717,"d":"59%"}},{"$f":"VLOOKUP(A105,[1]percentages_after!$A:$D,4,FALSE)+VLOOKUP(A105,[1]percentages_after!$A:$E,5,FALSE)","v":{"v":0.23742413582186161,"d":"24%"}},{"v":0.17611908844916668,"d":"18%"}]
["Jordan*","LM",{"$f":"VLOOKUP(A106,[1]all_after!$A:$G,7,FALSE)","v":{"v":27149.4843940939,"d":"27,149"}},{"v":0.8553753604636386,"d":"86%"},{"$f":"VLOOKUP(A106,[1]percentages_after!$A:$C,3,FALSE)","v":{"v":0.4592205074329958,"d":"46%"}},{"$f":"VLOOKUP(A106,[1]percentages_after!$A:$D,4,FALSE)+VLOOKUP(A106,[1]percentages_after!$A:$E,5,FALSE)","v":{"v":0.3961548530306428,"d":"40%"}},{"v":0.1446246395363614,"d":"14%"}]
["Kuwait, the State of*","H",{"$f":"VLOOKUP(A107,[1]all_after!$A:$G,7,FALSE)","v":{"v":35926.1211423719,"d":"35,926"}},{"v":0.8487671095679774,"d":"85%"},{"$f":"VLOOKUP(A107,[1]percentages_after!$A:$C,3,FALSE)","v":{"v":0.22822001761637117,"d":"23%"}},{"$f":"VLOOKUP(A107,[1]percentages_after!$A:$D,4,FALSE)+VLOOKUP(A107,[1]percentages_after!$A:$E,5,FALSE)","v":{"v":0.6205470919516063,"d":"62%"}},{"v":0.1512328904320226,"d":"15%"}]
["Lebanese Republic*","LM",{"$f":"VLOOKUP(A108,[1]all_after!$A:$G,7,FALSE)","v":{"v":19491.067546,"d":"19,491"}},{"v":1.0000001259038274,"d":"100%"},{"$f":"VLOOKUP(A108,[1]percentages_after!$A:$C,3,FALSE)","v":{"v":0.23717120619946164,"d":"24%"}},{"$f":"VLOOKUP(A108,[1]percentages_after!$A:$D,4,FALSE)+VLOOKUP(A108,[1]percentages_after!$A:$E,5,FALSE)","v":{"v":0.7628289197043656,"d":"76%"}},{"v":-1.2590382736377137E-7,"d":"-0%"}]
["Oman*","H",{"$f":"VLOOKUP(A109,[1]all_after!$A:$G,7,FALSE)","v":{"v":38573.0017550309,"d":"38,573"}},{"v":0.7084727336895876,"d":"71%"},{"$f":"VLOOKUP(A109,[1]percentages_after!$A:$C,3,FALSE)","v":{"v":0.1352375952778846,"d":"14%"}},{"$f":"VLOOKUP(A109,[1]percentages_after!$A:$D,4,FALSE)+VLOOKUP(A109,[1]percentages_after!$A:$E,5,FALSE)","v":{"v":0.573235138411703,"d":"57%"}},{"v":0.29152726631041237,"d":"29%"}]
["Palestine*","UM",{"$f":"VLOOKUP(A110,[1]all_after!$A:$G,7,FALSE)","v":{"v":9088.632136076,"d":"9,089"}},{"v":0.9999997649727739,"d":"100%"},{"$f":"VLOOKUP(A110,[1]percentages_after!$A:$C,3,FALSE)","v":{"v":0,"d":"0%"}},{"$f":"VLOOKUP(A110,[1]percentages_after!$A:$D,4,FALSE)+VLOOKUP(A110,[1]percentages_after!$A:$E,5,FALSE)","v":{"v":0.9999997649727739,"d":"100%"}},{"v":2.3502722612533944E-7,"d":"0%"}]
["Qatar*","H",{"$f":"VLOOKUP(A111,[1]all_after!$A:$G,7,FALSE)","v":{"v":33479.012251069,"d":"33,479"}},{"v":0.9999999327617858,"d":"100%"},{"$f":"VLOOKUP(A111,[1]percentages_after!$A:$C,3,FALSE)","v":{"v":0.1632407778047722,"d":"16%"}},{"$f":"VLOOKUP(A111,[1]percentages_after!$A:$D,4,FALSE)+VLOOKUP(A111,[1]percentages_after!$A:$E,5,FALSE)","v":{"v":0.8367591549570136,"d":"84%"}},{"v":6.7238214218612313E-8,"d":"0%"}]
["Saudi Arabia, Kingdom of*","H",{"$f":"VLOOKUP(A112,[1]all_after!$A:$G,7,FALSE)","v":{"v":189876.799671466,"d":"189,877"}},{"v":1.0000000017302482,"d":"100%"},{"$f":"VLOOKUP(A112,[1]percentages_after!$A:$C,3,FALSE)","v":{"v":0.25884326091991655,"d":"26%"}},{"$f":"VLOOKUP(A112,[1]percentages_after!$A:$D,4,FALSE)+VLOOKUP(A112,[1]percentages_after!$A:$E,5,FALSE)","v":{"v":0.7411567408103317,"d":"74%"}},{"v":-1.7302481669645431E-9,"d":"-0%"}]
["United Arab Emirates*","H",{"$f":"VLOOKUP(A113,[1]all_after!$A:$G,7,FALSE)","v":{"v":420493.197887218,"d":"420,493"}},{"v":0.9632783408511651,"d":"96%"},{"$f":"VLOOKUP(A113,[1]percentages_after!$A:$C,3,FALSE)","v":{"v":0.3246939324726476,"d":"32%"}},{"$f":"VLOOKUP(A113,[1]percentages_after!$A:$D,4,FALSE)+VLOOKUP(A113,[1]percentages_after!$A:$E,5,FALSE)","v":{"v":0.6385844083785176,"d":"64%"}},{"v":0.03672165914883485,"d":"4%"}]
["Yemen*","L",{"$f":"VLOOKUP(A114,[1]all_after!$A:$G,7,FALSE)","v":{"v":4715.95874131,"d":"4,716"}},{"v":1.0000002669001298,"d":"100%"},{"$f":"VLOOKUP(A114,[1]percentages_after!$A:$C,3,FALSE)","v":{"v":0.14670187716863287,"d":"15%"}},{"$f":"VLOOKUP(A114,[1]percentages_after!$A:$D,4,FALSE)+VLOOKUP(A114,[1]percentages_after!$A:$E,5,FALSE)","v":{"v":0.853298389731497,"d":"85%"}},{"v":-2.6690012977503841E-7,"d":"-0%"}]
["North America",null,{"v":4225353,"d":"4,225,353"},{"v":0.81,"d":"81%"},{"v":0.52,"d":"52%"},{"v":0.29,"d":"29%"},{"v":0.19,"d":"19%"}]
["Bermuda*","H",{"$f":"VLOOKUP(A116,[1]all_after!$A:$G,7,FALSE)","v":{"v":1192.25784836999,"d":"1,192"}},{"$f":"SUM(E116:F116)","v":{"v":1.0000018046683552,"d":"100%"}},{"$f":"VLOOKUP(A116,[1]percentages_after!$A:$C,3,FALSE)","v":{"v":0,"d":"0%"}},{"$f":"VLOOKUP(A116,[1]percentages_after!$A:$D,4,FALSE)+VLOOKUP(A116,[1]percentages_after!$A:$E,5,FALSE)","v":{"v":1.0000018046683552,"d":"100%"}},{"$f":"1-D116","v":{"v":-1.8046683551986575E-6,"d":"-0%"}}]
["Canada","H",{"$f":"VLOOKUP(A117,[1]all_after!$A:$G,7,FALSE)","v":{"v":514287.379949901,"d":"514,287"}},{"v":0.7943755882942284,"d":"79%"},{"$f":"VLOOKUP(A117,[1]percentages_after!$A:$C,3,FALSE)","v":{"v":0.6999559079887728,"d":"70%"}},{"$f":"VLOOKUP(A117,[1]percentages_after!$A:$D,4,FALSE)+VLOOKUP(A117,[1]percentages_after!$A:$E,5,FALSE)","v":{"v":0.09441968030545556,"d":"9%"}},{"$f":"1-D117","v":{"v":0.20562441170577161,"d":"21%"}}]
["Mexico*","UM",{"$f":"VLOOKUP(A118,[1]all_after!$A:$G,7,FALSE)","v":{"v":604614.616108999,"d":"604,615"}},{"v":0.7829304773450289,"d":"78%"},{"$f":"VLOOKUP(A118,[1]percentages_after!$A:$C,3,FALSE)","v":{"v":0.4025383335359589,"d":"40%"}},{"$f":"VLOOKUP(A118,[1]percentages_after!$A:$D,4,FALSE)+VLOOKUP(A118,[1]percentages_after!$A:$E,5,FALSE)","v":{"v":0.38039214380906994,"d":"38%"}},{"$f":"1-D118","v":{"v":0.21706952265497115,"d":"22%"}}]
["United States of America","H",{"$f":"VLOOKUP(A119,[1]all_after!$A:$G,7,FALSE)","v":{"v":3105258.742818,"d":"3,105,259"}},{"v":0.8241580434864255,"d":"82%"},{"$f":"VLOOKUP(A119,[1]percentages_after!$A:$C,3,FALSE)","v":{"v":0.5175994218573248,"d":"52%"}},{"$f":"VLOOKUP(A119,[1]percentages_after!$A:$D,4,FALSE)+VLOOKUP(A119,[1]percentages_after!$A:$E,5,FALSE)","v":{"v":0.3065586216291007,"d":"31%"}},{"$f":"1-D119","v":{"v":0.17584195651357448,"d":"18%"}}]
["Oceania",null,{"v":353295,"d":"353,295"},{"v":0.64,"d":"64%"},{"v":0.48,"d":"48%"},{"v":0.16,"d":"16%"},{"v":0.36,"d":"36%"}]
["Australia","H",{"$f":"VLOOKUP(A121,[1]all_after!$A:$G,7,FALSE)","v":{"v":287231.6108334,"d":"287,232"}},{"$f":"SUM(E121:F121)","v":{"v":0.6160195581767943,"d":"62%"}},{"$f":"VLOOKUP(A121,[1]percentages_after!$A:$C,3,FALSE)","v":{"v":0.5001687299777325,"d":"50%"}},{"$f":"VLOOKUP(A121,[1]percentages_after!$A:$D,4,FALSE)+VLOOKUP(A121,[1]percentages_after!$A:$E,5,FALSE)","v":{"v":0.11585082819906181,"d":"12%"}},{"$f":"1-D121","v":{"v":0.3839804418232057,"d":"38%"}}]
["Fiji*","UM",{"$f":"VLOOKUP(A122,[1]all_after!$A:$G,7,FALSE)","v":{"v":2997.04436934399,"d":"2,997"}},{"v":0.9922475724478259,"d":"99%"},{"$f":"VLOOKUP(A122,[1]percentages_after!$A:$C,3,FALSE)","v":{"v":0.22632297570838766,"d":"23%"}},{"$f":"VLOOKUP(A122,[1]percentages_after!$A:$D,4,FALSE)+VLOOKUP(A122,[1]percentages_after!$A:$E,5,FALSE)","v":{"v":0.7659245967394382,"d":"77%"}},{"v":0.00775242755217409,"d":"1%"}]
["French Polynesia*","H",{"$f":"VLOOKUP(A123,[1]all_after!$A:$G,7,FALSE)","v":{"v":2220.176697,"d":"2,220"}},{"v":1.0000014877194254,"d":"100%"},{"$f":"VLOOKUP(A123,[1]percentages_after!$A:$C,3,FALSE)","v":{"v":0,"d":"0%"}},{"$f":"VLOOKUP(A123,[1]percentages_after!$A:$D,4,FALSE)+VLOOKUP(A123,[1]percentages_after!$A:$E,5,FALSE)","v":{"v":1.0000014877194254,"d":"100%"}},{"v":-1.4877194254303561E-6,"d":"-0%"}]
["Kiribati*","LM",{"$f":"VLOOKUP(A124,[1]all_after!$A:$G,7,FALSE)","v":{"v":173.823727999999,"d":"174"}},{"v":0.9999785529855912,"d":"100%"},{"$f":"VLOOKUP(A124,[1]percentages_after!$A:$C,3,FALSE)","v":{"v":0,"d":"0%"}},{"$f":"VLOOKUP(A124,[1]percentages_after!$A:$D,4,FALSE)+VLOOKUP(A124,[1]percentages_after!$A:$E,5,FALSE)","v":{"v":0.9999785529855912,"d":"100%"}},{"v":2.1447014408759735E-5,"d":"0%"}]
["New Zealand*","H",{"$f":"VLOOKUP(A125,[1]all_after!$A:$G,7,FALSE)","v":{"v":54800.409165,"d":"54,800"}},{"v":0.6629941373358357,"d":"66%"},{"$f":"VLOOKUP(A125,[1]percentages_after!$A:$C,3,FALSE)","v":{"v":0.3800478922938713,"d":"38%"}},{"$f":"VLOOKUP(A125,[1]percentages_after!$A:$D,4,FALSE)+VLOOKUP(A125,[1]percentages_after!$A:$E,5,FALSE)","v":{"v":0.28294624504196436,"d":"28%"}},{"v":0.3370058626641643,"d":"34%"}]
["Palau*","UM",{"$f":"VLOOKUP(A126,[1]all_after!$A:$G,7,FALSE)","v":{"v":154.407195999999,"d":"154"}},{"v":1.0000181597754096,"d":"100%"},{"$f":"VLOOKUP(A126,[1]percentages_after!$A:$C,3,FALSE)","v":{"v":0,"d":"0%"}},{"$f":"VLOOKUP(A126,[1]percentages_after!$A:$D,4,FALSE)+VLOOKUP(A126,[1]percentages_after!$A:$E,5,FALSE)","v":{"v":1.0000181597754096,"d":"100%"}},{"v":-1.8159775409642975E-5,"d":"-0%"}]
["Papua New Guinea*","LM",{"$f":"VLOOKUP(A127,[1]all_after!$A:$G,7,FALSE)","v":{"v":4500.28279389799,"d":"4,500"}},{"v":0.9974706491971073,"d":"100%"},{"$f":"VLOOKUP(A127,[1]percentages_after!$A:$C,3,FALSE)","v":{"v":0.7203147331975154,"d":"72%"}},{"$f":"VLOOKUP(A127,[1]percentages_after!$A:$D,4,FALSE)+VLOOKUP(A127,[1]percentages_after!$A:$E,5,FALSE)","v":{"v":0.2771559159995919,"d":"28%"}},{"v":0.002529350802892738,"d":"0%"}]
["Samoa*","LM",{"$f":"VLOOKUP(A128,[1]all_after!$A:$G,7,FALSE)","v":{"v":368.240215633,"d":"368"}},{"v":0.9403915848917591,"d":"94%"},{"$f":"VLOOKUP(A128,[1]percentages_after!$A:$C,3,FALSE)","v":{"v":0.15011939938437854,"d":"15%"}},{"$f":"VLOOKUP(A128,[1]percentages_after!$A:$D,4,FALSE)+VLOOKUP(A128,[1]percentages_after!$A:$E,5,FALSE)","v":{"v":0.7902721855073805,"d":"79%"}},{"v":0.059608415108240886,"d":"6%"}]
["Solomon Islands*","LM",{"$f":"VLOOKUP(A129,[1]all_after!$A:$G,7,FALSE)","v":{"v":601.3885291708,"d":"601"}},{"v":1.0000024457220726,"d":"100%"},{"$f":"VLOOKUP(A129,[1]percentages_after!$A:$C,3,FALSE)","v":{"v":0.14200470387712633,"d":"14%"}},{"$f":"VLOOKUP(A129,[1]percentages_after!$A:$D,4,FALSE)+VLOOKUP(A129,[1]percentages_after!$A:$E,5,FALSE)","v":{"v":0.8579977418449463,"d":"86%"}},{"v":-2.4457220726414874E-6,"d":"-0%"}]
["Tonga*","UM",{"$f":"VLOOKUP(A130,[1]all_after!$A:$G,7,FALSE)","v":{"v":247.277850399632,"d":"247"}},{"v":0.9376496909257548,"d":"94%"},{"$f":"VLOOKUP(A130,[1]percentages_after!$A:$C,3,FALSE)","v":{"v":0.5252391178186709,"d":"53%"}},{"$f":"VLOOKUP(A130,[1]percentages_after!$A:$D,4,FALSE)+VLOOKUP(A130,[1]percentages_after!$A:$E,5,FALSE)","v":{"v":0.4124105731070839,"d":"41%"}},{"v":0.062350309074245214,"d":"6%"}]
["South and Central America and the Caribbean",null,{"v":838650,"d":"838,650"},{"v":0.77,"d":"77%"},{"v":0.3,"d":"30%"},{"v":0.46,"d":"46%"},{"v":0.23,"d":"23%"}]
["Antigua and Barbuda*","H",{"$f":"VLOOKUP(A132,[1]all_after!$A:$G,7,FALSE)","v":{"v":627.945130333,"d":"628"}},{"$f":"SUM(E132:F132)","v":{"v":0.8641041609993111,"d":"86%"}},{"$f":"VLOOKUP(A132,[1]percentages_after!$A:$C,3,FALSE)","v":{"v":0.029078973811480478,"d":"3%"}},{"$f":"VLOOKUP(A132,[1]percentages_after!$A:$D,4,FALSE)+VLOOKUP(A132,[1]percentages_after!$A:$E,5,FALSE)","v":{"v":0.8350251871878306,"d":"84%"}},{"$f":"1-D132","v":{"v":0.1358958390006889,"d":"14%"}}]
["Argentina*","UM",{"$f":"VLOOKUP(A133,[1]all_after!$A:$G,7,FALSE)","v":{"v":81475.36855521,"d":"81,475"}},{"v":0.7889076311013481,"d":"79%"},{"$f":"VLOOKUP(A133,[1]percentages_after!$A:$C,3,FALSE)","v":{"v":0.15233475122717113,"d":"15%"}},{"$f":"VLOOKUP(A133,[1]percentages_after!$A:$D,4,FALSE)+VLOOKUP(A133,[1]percentages_after!$A:$E,5,FALSE)","v":{"v":0.636572879874177,"d":"64%"}},{"v":0.2110923688986519,"d":"21%"}]
["Aruba, Netherlands with respect to*","Not classified",{"$f":"VLOOKUP(A134,[1]all_after!$A:$G,7,FALSE)","v":{"v":1473.23800267999,"d":"1,473"}},{"v":1.0000013557347873,"d":"100%"},{"$f":"VLOOKUP(A134,[1]percentages_after!$A:$C,3,FALSE)","v":{"v":0,"d":"0%"}},{"$f":"VLOOKUP(A134,[1]percentages_after!$A:$D,4,FALSE)+VLOOKUP(A134,[1]percentages_after!$A:$E,5,FALSE)","v":{"v":1.0000013557347873,"d":"100%"}},{"v":-1.3557347873227599E-6,"d":"-0%"}]
["Bahamas*","H",{"$f":"VLOOKUP(A135,[1]all_after!$A:$G,7,FALSE)","v":{"v":3757.84744799999,"d":"3,758"}},{"v":1.00000067911219,"d":"100%"},{"$f":"VLOOKUP(A135,[1]percentages_after!$A:$C,3,FALSE)","v":{"v":0,"d":"0%"}},{"$f":"VLOOKUP(A135,[1]percentages_after!$A:$D,4,FALSE)+VLOOKUP(A135,[1]percentages_after!$A:$E,5,FALSE)","v":{"v":1.00000067911219,"d":"100%"}},{"v":-6.7911219003846668E-7,"d":"-0%"}]
["Barbados*","H",{"$f":"VLOOKUP(A136,[1]all_after!$A:$G,7,FALSE)","v":{"v":2072.16673799999,"d":"2,072"}},{"v":0.892915597026637,"d":"89%"},{"$f":"VLOOKUP(A136,[1]percentages_after!$A:$C,3,FALSE)","v":{"v":0.05426686855737018,"d":"5%"}},{"$f":"VLOOKUP(A136,[1]percentages_after!$A:$D,4,FALSE)+VLOOKUP(A136,[1]percentages_after!$A:$E,5,FALSE)","v":{"v":0.8386487284692669,"d":"84%"}},{"v":0.10708440297336297,"d":"11%"}]
["Belize*","UM",{"$f":"VLOOKUP(A137,[1]all_after!$A:$G,7,FALSE)","v":{"v":1381.3539175502,"d":"1,381"}},{"v":0.9663417774695597,"d":"97%"},{"$f":"VLOOKUP(A137,[1]percentages_after!$A:$C,3,FALSE)","v":{"v":0.15012807171661244,"d":"15%"}},{"$f":"VLOOKUP(A137,[1]percentages_after!$A:$D,4,FALSE)+VLOOKUP(A137,[1]percentages_after!$A:$E,5,FALSE)","v":{"v":0.8162137057529473,"d":"82%"}},{"v":0.03365822253044026,"d":"3%"}]
["Bolivia, Plurinational State of*","LM",{"$f":"VLOOKUP(A138,[1]all_after!$A:$G,7,FALSE)","v":{"v":13048.938093,"d":"13,049"}},{"v":0.6933161867671985,"d":"69%"},{"$f":"VLOOKUP(A138,[1]percentages_after!$A:$C,3,FALSE)","v":{"v":0.07587360695129018,"d":"8%"}},{"$f":"VLOOKUP(A138,[1]percentages_after!$A:$D,4,FALSE)+VLOOKUP(A138,[1]percentages_after!$A:$E,5,FALSE)","v":{"v":0.6174425798159083,"d":"62%"}},{"v":0.30668381323280147,"d":"31%"}]
["Brazil*","UM",{"$f":"VLOOKUP(A139,[1]all_after!$A:$G,7,FALSE)","v":{"v":272438.56,"d":"272,439"}},{"v":0.8942629486809797,"d":"89%"},{"$f":"VLOOKUP(A139,[1]percentages_after!$A:$C,3,FALSE)","v":{"v":0.30018889396567067,"d":"30%"}},{"$f":"VLOOKUP(A139,[1]percentages_after!$A:$D,4,FALSE)+VLOOKUP(A139,[1]percentages_after!$A:$E,5,FALSE)","v":{"v":0.594074054715309,"d":"59%"}},{"v":0.10573705131902034,"d":"11%"}]
["Cayman Islands*","H",{"$f":"VLOOKUP(A140,[1]all_after!$A:$G,7,FALSE)","v":{"v":1537.806723,"d":"1,538"}},{"v":1.0000021309569993,"d":"100%"},{"$f":"VLOOKUP(A140,[1]percentages_after!$A:$C,3,FALSE)","v":{"v":0,"d":"0%"}},{"$f":"VLOOKUP(A140,[1]percentages_after!$A:$D,4,FALSE)+VLOOKUP(A140,[1]percentages_after!$A:$E,5,FALSE)","v":{"v":1.0000021309569993,"d":"100%"}},{"v":-2.1309569993022137E-6,"d":"-0%"}]
["Chile*","H",{"$f":"VLOOKUP(A141,[1]all_after!$A:$G,7,FALSE)","v":{"v":97646.4005884099,"d":"97,646"}},{"v":0.3224548965477923,"d":"32%"},{"$f":"VLOOKUP(A141,[1]percentages_after!$A:$C,3,FALSE)","v":{"v":0.002097158715180601,"d":"0%"}},{"$f":"VLOOKUP(A141,[1]percentages_after!$A:$D,4,FALSE)+VLOOKUP(A141,[1]percentages_after!$A:$E,5,FALSE)","v":{"v":0.3203577378326117,"d":"32%"}},{"v":0.6775451034522078,"d":"68%"}]
["Colombia*","UM",{"$f":"VLOOKUP(A142,[1]all_after!$A:$G,7,FALSE)","v":{"v":75877.39833232081,"d":"75,877"}},{"v":0.7868932160601897,"d":"79%"},{"$f":"VLOOKUP(A142,[1]percentages_after!$A:$C,3,FALSE)","v":{"v":0.47261359493298205,"d":"47%"}},{"$f":"VLOOKUP(A142,[1]percentages_after!$A:$D,4,FALSE)+VLOOKUP(A142,[1]percentages_after!$A:$E,5,FALSE)","v":{"v":0.31427962112720764,"d":"31%"}},{"v":0.2131067839398103,"d":"21%"}]
["Costa Rica*","UM",{"$f":"VLOOKUP(A143,[1]all_after!$A:$G,7,FALSE)","v":{"v":21395.1464743441,"d":"21,395"}},{"v":0.6806249266609157,"d":"68%"},{"$f":"VLOOKUP(A143,[1]percentages_after!$A:$C,3,FALSE)","v":{"v":0.41403362256119186,"d":"41%"}},{"$f":"VLOOKUP(A143,[1]percentages_after!$A:$D,4,FALSE)+VLOOKUP(A143,[1]percentages_after!$A:$E,5,FALSE)","v":{"v":0.26659130409972376,"d":"27%"}},{"v":0.3193750733390843,"d":"32%"}]
["Cuba*","UM",{"$f":"VLOOKUP(A144,[1]all_after!$A:$G,7,FALSE)","v":{"v":9816.90254378999,"d":"9,817"}},{"v":0.9133899374066987,"d":"91%"},{"$f":"VLOOKUP(A144,[1]percentages_after!$A:$C,3,FALSE)","v":{"v":0.17814274840756855,"d":"18%"}},{"$f":"VLOOKUP(A144,[1]percentages_after!$A:$D,4,FALSE)+VLOOKUP(A144,[1]percentages_after!$A:$E,5,FALSE)","v":{"v":0.7352471889991301,"d":"74%"}},{"v":0.08661006259330128,"d":"9%"}]
["Dominica*","UM",{"$f":"VLOOKUP(A145,[1]all_after!$A:$G,7,FALSE)","v":{"v":190.370756695999,"d":"190"}},{"v":0.9792470400151432,"d":"98%"},{"$f":"VLOOKUP(A145,[1]percentages_after!$A:$C,3,FALSE)","v":{"v":0.14797440788127122,"d":"15%"}},{"$f":"VLOOKUP(A145,[1]percentages_after!$A:$D,4,FALSE)+VLOOKUP(A145,[1]percentages_after!$A:$E,5,FALSE)","v":{"v":0.8312726321338719,"d":"83%"}},{"v":0.020752959984856822,"d":"2%"}]
["Dominican Republic*","UM",{"$f":"VLOOKUP(A146,[1]all_after!$A:$G,7,FALSE)","v":{"v":30820.1196057139,"d":"30,820"}},{"v":0.7424364438792701,"d":"74%"},{"$f":"VLOOKUP(A146,[1]percentages_after!$A:$C,3,FALSE)","v":{"v":0.38928077351704005,"d":"39%"}},{"$f":"VLOOKUP(A146,[1]percentages_after!$A:$D,4,FALSE)+VLOOKUP(A146,[1]percentages_after!$A:$E,5,FALSE)","v":{"v":0.35315567036223,"d":"35%"}},{"v":0.2575635561207299,"d":"26%"}]
["Ecuador*","UM",{"$f":"VLOOKUP(A147,[1]all_after!$A:$G,7,FALSE)","v":{"v":32530.2360561459,"d":"32,530"}},{"v":0.9087105900178415,"d":"91%"},{"$f":"VLOOKUP(A147,[1]percentages_after!$A:$C,3,FALSE)","v":{"v":0.43922552468845566,"d":"44%"}},{"$f":"VLOOKUP(A147,[1]percentages_after!$A:$D,4,FALSE)+VLOOKUP(A147,[1]percentages_after!$A:$E,5,FALSE)","v":{"v":0.46948506532938583,"d":"47%"}},{"v":0.09128940998215851,"d":"9%"}]
["El Salvador*","UM",{"$f":"VLOOKUP(A148,[1]all_after!$A:$G,7,FALSE)","v":{"v":17063.8125417,"d":"17,064"}},{"v":0.6161196376429834,"d":"62%"},{"$f":"VLOOKUP(A148,[1]percentages_after!$A:$C,3,FALSE)","v":{"v":0.32097223212077947,"d":"32%"}},{"$f":"VLOOKUP(A148,[1]percentages_after!$A:$D,4,FALSE)+VLOOKUP(A148,[1]percentages_after!$A:$E,5,FALSE)","v":{"v":0.295147405522204,"d":"30%"}},{"v":0.3838803623570166,"d":"38%"}]
["Grenada*","UM",{"$f":"VLOOKUP(A149,[1]all_after!$A:$G,7,FALSE)","v":{"v":589.270125325999,"d":"589"}},{"v":0.9820284028141759,"d":"98%"},{"$f":"VLOOKUP(A149,[1]percentages_after!$A:$C,3,FALSE)","v":{"v":0.04217081255604526,"d":"4%"}},{"$f":"VLOOKUP(A149,[1]percentages_after!$A:$D,4,FALSE)+VLOOKUP(A149,[1]percentages_after!$A:$E,5,FALSE)","v":{"v":0.9398575902581306,"d":"94%"}},{"v":0.017971597185824084,"d":"2%"}]
["Guatemala*","UM",{"$f":"VLOOKUP(A150,[1]all_after!$A:$G,7,FALSE)","v":{"v":32106.60315,"d":"32,107"}},{"v":0.7301286246471078,"d":"73%"},{"$f":"VLOOKUP(A150,[1]percentages_after!$A:$C,3,FALSE)","v":{"v":0.39355455763933717,"d":"39%"}},{"$f":"VLOOKUP(A150,[1]percentages_after!$A:$D,4,FALSE)+VLOOKUP(A150,[1]percentages_after!$A:$E,5,FALSE)","v":{"v":0.33657406700777065,"d":"34%"}},{"v":0.2698713753528922,"d":"27%"}]
["Guyana*","H",{"$f":"VLOOKUP(A151,[1]all_after!$A:$G,7,FALSE)","v":{"v":3609.68479142959,"d":"3,610"}},{"v":0.789323767760783,"d":"79%"},{"$f":"VLOOKUP(A151,[1]percentages_after!$A:$C,3,FALSE)","v":{"v":0.10279290892129346,"d":"10%"}},{"$f":"VLOOKUP(A151,[1]percentages_after!$A:$D,4,FALSE)+VLOOKUP(A151,[1]percentages_after!$A:$E,5,FALSE)","v":{"v":0.6865308588394895,"d":"69%"}},{"v":0.21067623223921705,"d":"21%"}]
["Honduras*","LM",{"$f":"VLOOKUP(A152,[1]all_after!$A:$G,7,FALSE)","v":{"v":13845.4683776919,"d":"13,845"}},{"v":0.5711998889645644,"d":"57%"},{"$f":"VLOOKUP(A152,[1]percentages_after!$A:$C,3,FALSE)","v":{"v":0.2595311261401345,"d":"26%"}},{"$f":"VLOOKUP(A152,[1]percentages_after!$A:$D,4,FALSE)+VLOOKUP(A152,[1]percentages_after!$A:$E,5,FALSE)","v":{"v":0.3116687628244299,"d":"31%"}},{"v":0.4288001110354356,"d":"43%"}]
["Jamaica*","UM",{"$f":"VLOOKUP(A153,[1]all_after!$A:$G,7,FALSE)","v":{"v":7731.031480157,"d":"7,731"}},{"v":0.9728831164773963,"d":"97%"},{"$f":"VLOOKUP(A153,[1]percentages_after!$A:$C,3,FALSE)","v":{"v":0.38219350258550433,"d":"38%"}},{"$f":"VLOOKUP(A153,[1]percentages_after!$A:$D,4,FALSE)+VLOOKUP(A153,[1]percentages_after!$A:$E,5,FALSE)","v":{"v":0.590689613891892,"d":"59%"}},{"v":0.027116883522603663,"d":"3%"}]
["Montserrat*","Not classified",{"$f":"VLOOKUP(A154,[1]all_after!$A:$G,7,FALSE)","v":{"v":39.233812,"d":"39"}},{"v":0.9999028389084395,"d":"100%"},{"$f":"VLOOKUP(A154,[1]percentages_after!$A:$C,3,FALSE)","v":{"v":0,"d":"0%"}},{"$f":"VLOOKUP(A154,[1]percentages_after!$A:$D,4,FALSE)+VLOOKUP(A154,[1]percentages_after!$A:$E,5,FALSE)","v":{"v":0.9999028389084395,"d":"100%"}},{"v":9.71610915605492e-05,"d":"0%"}]
["Nicaragua*","LM",{"$f":"VLOOKUP(A155,[1]all_after!$A:$G,7,FALSE)","v":{"v":8136.93755271,"d":"8,137"}},{"v":0.6340690175607495,"d":"63%"},{"$f":"VLOOKUP(A155,[1]percentages_after!$A:$C,3,FALSE)","v":{"v":0.31006136936122036,"d":"31%"}},{"$f":"VLOOKUP(A155,[1]percentages_after!$A:$D,4,FALSE)+VLOOKUP(A155,[1]percentages_after!$A:$E,5,FALSE)","v":{"v":0.3240076481995292,"d":"32%"}},{"v":0.3659309824392505,"d":"37%"}]
["Panama*","H",{"$f":"VLOOKUP(A156,[1]all_after!$A:$G,7,FALSE)","v":{"v":11176.3010739999,"d":"11,176"}},{"v":0.6808531686482793,"d":"68%"},{"$f":"VLOOKUP(A156,[1]percentages_after!$A:$C,3,FALSE)","v":{"v":0.4221879822991642,"d":"42%"}},{"$f":"VLOOKUP(A156,[1]percentages_after!$A:$D,4,FALSE)+VLOOKUP(A156,[1]percentages_after!$A:$E,5,FALSE)","v":{"v":0.2586651863491151,"d":"26%"}},{"v":0.31914683135172073,"d":"32%"}]
["Paraguay*","UM",{"$f":"VLOOKUP(A157,[1]all_after!$A:$G,7,FALSE)","v":{"v":15879.5844567,"d":"15,880"}},{"v":0.9907715181653781,"d":"99%"},{"$f":"VLOOKUP(A157,[1]percentages_after!$A:$C,3,FALSE)","v":{"v":0.20499025077615082,"d":"20%"}},{"$f":"VLOOKUP(A157,[1]percentages_after!$A:$D,4,FALSE)+VLOOKUP(A157,[1]percentages_after!$A:$E,5,FALSE)","v":{"v":0.7857812673892273,"d":"79%"}},{"v":0.009228481834621882,"d":"1%"}]
["Peru*","UM",{"$f":"VLOOKUP(A158,[1]all_after!$A:$G,7,FALSE)","v":{"v":60152.969365485,"d":"60,153"}},{"v":0.8462933839673394,"d":"85%"},{"$f":"VLOOKUP(A158,[1]percentages_after!$A:$C,3,FALSE)","v":{"v":0.7357182939898778,"d":"74%"}},{"$f":"VLOOKUP(A158,[1]percentages_after!$A:$D,4,FALSE)+VLOOKUP(A158,[1]percentages_after!$A:$E,5,FALSE)","v":{"v":0.11057508997746168,"d":"11%"}},{"v":0.15370661603266056,"d":"15%"}]
["Saint Kitts and Nevis*","H",{"$f":"VLOOKUP(A159,[1]all_after!$A:$G,7,FALSE)","v":{"v":308.9468494946,"d":"309"}},{"v":0.9746984003643753,"d":"97%"},{"$f":"VLOOKUP(A159,[1]percentages_after!$A:$C,3,FALSE)","v":{"v":0.07810404941650574,"d":"8%"}},{"$f":"VLOOKUP(A159,[1]percentages_after!$A:$D,4,FALSE)+VLOOKUP(A159,[1]percentages_after!$A:$E,5,FALSE)","v":{"v":0.8965943509478695,"d":"90%"}},{"v":0.025301599635624727,"d":"3%"}]
["Saint Lucia*","UM",{"$f":"VLOOKUP(A160,[1]all_after!$A:$G,7,FALSE)","v":{"v":532.91397708,"d":"533"}},{"v":0.8151597043490326,"d":"82%"},{"$f":"VLOOKUP(A160,[1]percentages_after!$A:$C,3,FALSE)","v":{"v":0.23388390126853303,"d":"23%"}},{"$f":"VLOOKUP(A160,[1]percentages_after!$A:$D,4,FALSE)+VLOOKUP(A160,[1]percentages_after!$A:$E,5,FALSE)","v":{"v":0.5812758030804996,"d":"58%"}},{"v":0.18484029565096738,"d":"18%"}]
["Saint Vincent and the Grenadines*","UM",{"$f":"VLOOKUP(A161,[1]all_after!$A:$G,7,FALSE)","v":{"v":372.496089086999,"d":"372"}},{"v":0.966426253983896,"d":"97%"},{"$f":"VLOOKUP(A161,[1]percentages_after!$A:$C,3,FALSE)","v":{"v":0.10418901335346815,"d":"10%"}},{"$f":"VLOOKUP(A161,[1]percentages_after!$A:$D,4,FALSE)+VLOOKUP(A161,[1]percentages_after!$A:$E,5,FALSE)","v":{"v":0.8622372406304278,"d":"86%"}},{"v":0.03357374601610397,"d":"3%"}]
["Suriname*","UM",{"$f":"VLOOKUP(A162,[1]all_after!$A:$G,7,FALSE)","v":{"v":1911.85279856067,"d":"1,912"}},{"v":0.7622448763299778,"d":"76%"},{"$f":"VLOOKUP(A162,[1]percentages_after!$A:$C,3,FALSE)","v":{"v":0.057792106214025425,"d":"6%"}},{"$f":"VLOOKUP(A162,[1]percentages_after!$A:$D,4,FALSE)+VLOOKUP(A162,[1]percentages_after!$A:$E,5,FALSE)","v":{"v":0.7044527701159524,"d":"70%"}},{"v":0.23775512367002216,"d":"24%"}]
["Trinidad and Tobago*","H",{"$f":"VLOOKUP(A163,[1]all_after!$A:$G,7,FALSE)","v":{"v":6211.2744664778,"d":"6,211"}},{"v":0.930910400306115,"d":"93%"},{"$f":"VLOOKUP(A163,[1]percentages_after!$A:$C,3,FALSE)","v":{"v":0.5392709689577476,"d":"54%"}},{"$f":"VLOOKUP(A163,[1]percentages_after!$A:$D,4,FALSE)+VLOOKUP(A163,[1]percentages_after!$A:$E,5,FALSE)","v":{"v":0.39163943134836743,"d":"39%"}},{"v":0.06908959969388495,"d":"7%"}]
["Uruguay*","H",{"$f":"VLOOKUP(A164,[1]all_after!$A:$G,7,FALSE)","v":{"v":12891.4943157181,"d":"12,891"}},{"v":0.7233211117062486,"d":"72%"},{"$f":"VLOOKUP(A164,[1]percentages_after!$A:$C,3,FALSE)","v":{"v":0.2521934168668095,"d":"25%"}},{"$f":"VLOOKUP(A164,[1]percentages_after!$A:$D,4,FALSE)+VLOOKUP(A164,[1]percentages_after!$A:$E,5,FALSE)","v":{"v":0.47112769483943906,"d":"47%"}},{"v":0.2766788882937514,"d":"28%"}]
["West Asia",null,{"v":870413,"d":"870,413"},{"v":0.82,"d":"82%"},{"v":0.08,"d":"8%"},{"v":0.74,"d":"74%"},{"v":0.18,"d":"18%"}]
["Afghanistan*","L",{"$f":"VLOOKUP(A166,[1]all_after!$A:$G,7,FALSE)","v":{"v":8568.01387686999,"d":"8,568"}},{"$f":"SUM(E166:F166)","v":{"v":0.9915565173084875,"d":"99%"}},{"$f":"VLOOKUP(A166,[1]percentages_after!$A:$C,3,FALSE)","v":{"v":1.0445828086438106E-3,"d":"0%"}},{"$f":"VLOOKUP(A166,[1]percentages_after!$A:$D,4,FALSE)+VLOOKUP(A166,[1]percentages_after!$A:$E,5,FALSE)","v":{"v":0.9905119344998436,"d":"99%"}},{"$f":"1-D166","v":{"v":0.008443482691512516,"d":"1%"}}]
["Bangladesh*","LM",{"$f":"VLOOKUP(A167,[1]all_after!$A:$G,7,FALSE)","v":{"v":47247.0693315394,"d":"47,247"}},{"v":0.9290466185740419,"d":"93%"},{"$f":"VLOOKUP(A167,[1]percentages_after!$A:$C,3,FALSE)","v":{"v":0.19596728709307074,"d":"20%"}},{"$f":"VLOOKUP(A167,[1]percentages_after!$A:$D,4,FALSE)+VLOOKUP(A167,[1]percentages_after!$A:$E,5,FALSE)","v":{"v":0.7330793314809712,"d":"73%"}},{"$f":"1-D167","v":{"v":0.07095338142595808,"d":"7%"}}]
["India*","LM",{"$f":"VLOOKUP(A168,[1]all_after!$A:$G,7,FALSE)","v":{"v":714042.452052999,"d":"714,042"}},{"v":0.8043816839581528,"d":"80%"},{"$f":"VLOOKUP(A168,[1]percentages_after!$A:$C,3,FALSE)","v":{"v":0.045733807431348854,"d":"5%"}},{"$f":"VLOOKUP(A168,[1]percentages_after!$A:$D,4,FALSE)+VLOOKUP(A168,[1]percentages_after!$A:$E,5,FALSE)","v":{"v":0.758647876526804,"d":"76%"}},{"$f":"1-D168","v":{"v":0.1956183160418472,"d":"20%"}}]
["Maldives*","UM",{"$f":"VLOOKUP(A169,[1]all_after!$A:$G,7,FALSE)","v":{"v":3487.69797218558,"d":"3,488"}},{"v":0.9419422284267664,"d":"94%"},{"$f":"VLOOKUP(A169,[1]percentages_after!$A:$C,3,FALSE)","v":{"v":0.3669841856168316,"d":"37%"}},{"$f":"VLOOKUP(A169,[1]percentages_after!$A:$D,4,FALSE)+VLOOKUP(A169,[1]percentages_after!$A:$E,5,FALSE)","v":{"v":0.5749580428099349,"d":"57%"}},{"v":0.05805777157323355,"d":"6%"}]
["Nepal*","LM",{"$f":"VLOOKUP(A170,[1]all_after!$A:$G,7,FALSE)","v":{"v":13743.903611981,"d":"13,744"}},{"v":0.7651443357644624,"d":"77%"},{"$f":"VLOOKUP(A170,[1]percentages_after!$A:$C,3,FALSE)","v":{"v":0.056905957876349604,"d":"6%"}},{"$f":"VLOOKUP(A170,[1]percentages_after!$A:$D,4,FALSE)+VLOOKUP(A170,[1]percentages_after!$A:$E,5,FALSE)","v":{"v":0.7082383778881128,"d":"71%"}},{"v":0.2348556642355376,"d":"23%"}]
["Pakistan*","LM",{"$f":"VLOOKUP(A171,[1]all_after!$A:$G,7,FALSE)","v":{"v":65764.4987782737,"d":"65,764"}},{"v":0.8644308259942352,"d":"86%"},{"$f":"VLOOKUP(A171,[1]percentages_after!$A:$C,3,FALSE)","v":{"v":0.23347688015943016,"d":"23%"}},{"$f":"VLOOKUP(A171,[1]percentages_after!$A:$D,4,FALSE)+VLOOKUP(A171,[1]percentages_after!$A:$E,5,FALSE)","v":{"v":0.630953945834805,"d":"63%"}},{"v":0.13556917400576485,"d":"14%"}]
["Sri Lanka*","LM",{"$f":"VLOOKUP(A172,[1]all_after!$A:$G,7,FALSE)","v":{"v":17559.4939873089,"d":"17,559"}},{"v":0.9656929756777562,"d":"97%"},{"$f":"VLOOKUP(A172,[1]percentages_after!$A:$C,3,FALSE)","v":{"v":0.5595297909553116,"d":"56%"}},{"$f":"VLOOKUP(A172,[1]percentages_after!$A:$D,4,FALSE)+VLOOKUP(A172,[1]percentages_after!$A:$E,5,FALSE)","v":{"v":0.4061631847224446,"d":"41%"}},{"v":0.03430702432224375,"d":"3%"}]
[]
[]
["Source: WTO Integrated Database, WTO Analytical Database, and World Bank, 2024"]
["* MFN and preferential shares estimated based on methodology outlined in ERSD-2025-02 working paper, section 4"]
["a Income groups as defined by the World Bank, https://datahelpdesk.worldbank.org/knowledgebase/articles/906519-world-bank-country-and-lending-groups"]
["  -> L-low income, LM-lower-middle income, UM-upper-middle income, H-high income."]